BEGIN:VCALENDAR
VERSION:2.0
PRODID:-//Óbudai Egyetem - Bánki Donát Gépész és Biztonságtechnikai Mérnöki Kar - ECPv6.15.12.2//NONSGML v1.0//EN
CALSCALE:GREGORIAN
METHOD:PUBLISH
X-WR-CALNAME:Óbudai Egyetem - Bánki Donát Gépész és Biztonságtechnikai Mérnöki Kar
X-ORIGINAL-URL:https://bgk.uni-obuda.hu
X-WR-CALDESC:Események Óbudai Egyetem - Bánki Donát Gépész és Biztonságtechnikai Mérnöki Kar
REFRESH-INTERVAL;VALUE=DURATION:PT1H
X-Robots-Tag:noindex
X-PUBLISHED-TTL:PT1H
BEGIN:VTIMEZONE
TZID:UTC
BEGIN:STANDARD
TZOFFSETFROM:+0000
TZOFFSETTO:+0000
TZNAME:UTC
DTSTART:20220101T000000
END:STANDARD
END:VTIMEZONE
BEGIN:VEVENT
DTSTART;TZID=UTC:20231026T141500
DTEND;TZID=UTC:20231026T150000
DTSTAMP:20260423T161421
CREATED:20231107T142125Z
LAST-MODIFIED:20231107T142125Z
UID:18131-1698329700-1698332400@bgk.uni-obuda.hu
SUMMARY:YANG SONG doktori értekezésének nyilvános vitája
DESCRIPTION:Értekezés címe: Biomechanical exploration on long-distance running forefoot injury mechanism and implication for footwear design optimization \nTémavezető: Prof. Dr. Bíró István \nIdőpont: 2023. október 26. csütörtök 14:15 óra \nHelyszín: BigBlueButton rendszeren keresztül az alábbi linken – https://bbb2.banki.hu/b/far-nre-lxz-ahe \nAz eljárás nyelve: angol
URL:https://bgk.uni-obuda.hu/event/yang-song-doktori-ertekezesenek-nyilvanos-vitaja/
LOCATION:ÓE BGK – 1081 Budapest\, Népszínház utca 8.
ATTACH;FMTTYPE=image/jpeg:https://bgk.uni-obuda.hu/wp-content/uploads/2023/03/doctoral-event-2023-main-image.jpg
END:VEVENT
END:VCALENDAR