BEGIN:VCALENDAR
VERSION:2.0
PRODID:-//Óbudai Egyetem - Bánki Donát Gépész és Biztonságtechnikai Mérnöki Kar - ECPv6.15.12.2//NONSGML v1.0//EN
CALSCALE:GREGORIAN
METHOD:PUBLISH
X-ORIGINAL-URL:https://bgk.uni-obuda.hu
X-WR-CALDESC:Események Óbudai Egyetem - Bánki Donát Gépész és Biztonságtechnikai Mérnöki Kar
REFRESH-INTERVAL;VALUE=DURATION:PT1H
X-Robots-Tag:noindex
X-PUBLISHED-TTL:PT1H
BEGIN:VTIMEZONE
TZID:UTC
BEGIN:STANDARD
TZOFFSETFROM:+0000
TZOFFSETTO:+0000
TZNAME:UTC
DTSTART:20230101T000000
END:STANDARD
END:VTIMEZONE
BEGIN:VEVENT
DTSTART;VALUE=DATE:20240111
DTEND;VALUE=DATE:20240114
DTSTAMP:20260423T110226
CREATED:20231112T173519Z
LAST-MODIFIED:20231112T173519Z
UID:18133-1704931200-1705190399@bgk.uni-obuda.hu
SUMMARY:Óbudai Egyetem az Educatio Szakkiállításon
DESCRIPTION:24. EDUCATIO Nemzetközi Oktatási Szakkiállítás \n2024. január 11-13. között keresd az Óbudai Egyetem Bánki Kar standját! \nAz Educatio Nemzetközi Oktatási Szakkiállítás azzal a céllal jött létre\, hogy választ adjon a felsőoktatással kapcsolatos kérdésekre. Feladata összekapcsolni az egyes szereplőket: a hazai – és külföldi felsőoktatási intézményeket\, tankönyvkiadókat\, nyelviskolákat\, szakképző intézményeket és vállalatokat az érdeklődőkkel: a diákokkal\, oktatókkal és szülőkkel.
URL:https://bgk.uni-obuda.hu/event/az-obudai-egyetem-az-educatio-szakkiallitason/
ATTACH;FMTTYPE=image/jpeg:https://bgk.uni-obuda.hu/wp-content/uploads/2023/11/educatio-2023-even-image.jpg
END:VEVENT
END:VCALENDAR