BEGIN:VCALENDAR
VERSION:2.0
PRODID:-//Óbudai Egyetem - Bánki Donát Gépész és Biztonságtechnikai Mérnöki Kar - ECPv6.15.12.2//NONSGML v1.0//EN
CALSCALE:GREGORIAN
METHOD:PUBLISH
X-WR-CALNAME:Óbudai Egyetem - Bánki Donát Gépész és Biztonságtechnikai Mérnöki Kar
X-ORIGINAL-URL:https://bgk.uni-obuda.hu
X-WR-CALDESC:Események Óbudai Egyetem - Bánki Donát Gépész és Biztonságtechnikai Mérnöki Kar
REFRESH-INTERVAL;VALUE=DURATION:PT1H
X-Robots-Tag:noindex
X-PUBLISHED-TTL:PT1H
BEGIN:VTIMEZONE
TZID:UTC
BEGIN:STANDARD
TZOFFSETFROM:+0000
TZOFFSETTO:+0000
TZNAME:UTC
DTSTART:20230101T000000
END:STANDARD
END:VTIMEZONE
BEGIN:VEVENT
DTSTART;TZID=UTC:20240604T101500
DTEND;TZID=UTC:20240604T113000
DTSTAMP:20260422T223336
CREATED:20240514T093833Z
LAST-MODIFIED:20240514T093833Z
UID:18177-1717496100-1717500600@bgk.uni-obuda.hu
SUMMARY:Szakali Miklós doktori értekezésének nyilvános vitája
DESCRIPTION:Értekezés címe: A védelmi tervezés és az új típusú biztonsági kihívások kölcsönhatásainak vizsgálata\nTémavezető: Dr. Szűcs Endre\nIdőpont: 2024. június 4. kedd 10:15 óra\nHelyszín: Óbudai Egyetem – Bánki Donát Gépész és Biztonságtechnikai Mérnöki Kar – 1081 Budapest\, Népszínház utca 8. – Tanácsterem (fszt. 45)
URL:https://bgk.uni-obuda.hu/event/szakali-miklos-doktori-ertekezesenek-nyilvanos-vitaja/
LOCATION:ÓE BGK – 1081 Budapest\, Népszínház utca 8.
ATTACH;FMTTYPE=image/jpeg:https://bgk.uni-obuda.hu/wp-content/uploads/2023/03/doctoral-event-2023-main-image.jpg
END:VEVENT
END:VCALENDAR