BEGIN:VCALENDAR
VERSION:2.0
PRODID:-//Óbudai Egyetem - Bánki Donát Gépész és Biztonságtechnikai Mérnöki Kar - ECPv6.15.12.2//NONSGML v1.0//EN
CALSCALE:GREGORIAN
METHOD:PUBLISH
X-ORIGINAL-URL:https://bgk.uni-obuda.hu
X-WR-CALDESC:Események Óbudai Egyetem - Bánki Donát Gépész és Biztonságtechnikai Mérnöki Kar
REFRESH-INTERVAL;VALUE=DURATION:PT1H
X-Robots-Tag:noindex
X-PUBLISHED-TTL:PT1H
BEGIN:VTIMEZONE
TZID:UTC
BEGIN:STANDARD
TZOFFSETFROM:+0000
TZOFFSETTO:+0000
TZNAME:UTC
DTSTART:20230101T000000
END:STANDARD
END:VTIMEZONE
BEGIN:VEVENT
DTSTART;VALUE=DATE:20240905
DTEND;VALUE=DATE:20240909
DTSTAMP:20260422T181601
CREATED:20240827T132928Z
LAST-MODIFIED:20240827T132928Z
UID:18204-1725494400-1725839999@bgk.uni-obuda.hu
SUMMARY:Bánki Gólyatábor 2024
DESCRIPTION:Kedves Bánkis Gólya!\n\nElhoztuk nektek egyetemi éveitek legnagyobb és legemlékezetesebb buliját a….GÓLYATÁBORT!!!!\nAz idei tábor témája a Görög Istenek\, szóval készítsd a tógát és babérkoszorút \, mert földig romboljuk az Olümposzt\, csak az istenek haragja utol ne érjen.\nSzóval röviden a történetről \nBőven időszámításunk előtt Zeusz hadban állt…. áh ezt majd úgy is megtudod\, nem fogjuk lelőni a poént \nA tábor helyszíne: Balatonszemes Pillangó ÜdülőA tábor időpontja: 2024.09.05. – 08.\n\nOtt találkozunk!Bánki HÖK \nKevesebb jelenjen meg
URL:https://bgk.uni-obuda.hu/event/banki-golyatabor-2024/
ATTACH;FMTTYPE=image/jpeg:https://bgk.uni-obuda.hu/wp-content/uploads/2024/08/banki-gt-2024-main-image.jpg
END:VEVENT
BEGIN:VEVENT
DTSTART;TZID=UTC:20240905T091500
DTEND;TZID=UTC:20240905T113000
DTSTAMP:20260422T181601
CREATED:20240807T050939Z
LAST-MODIFIED:20240807T050939Z
UID:18200-1725527700-1725535800@bgk.uni-obuda.hu
SUMMARY:Mészáros Alexandra Ágnes doktori értekezésének nyilvános vitája
DESCRIPTION:Értekezés címe: Ipari kémkedés vizsgálata a védelmi iparban működő innovatív kis- és középvállalkozások körében\nTémavezető: Dr. habil. Kelemen-Erdős Anikó\nIdőpont: 2024. szeptember 5. csütörtök 9:15 óra\nHelyszín: Óbudai Egyetem – Bánki Donát Gépész és Biztonságtechnikai Mérnöki Kar – 1081 Budapest\, Népszínház utca 8. – Tanácsterem (fszt. 45)
URL:https://bgk.uni-obuda.hu/event/meszaros-alexandra-agnes-doktori-ertekezesenek-nyilvanos-vitaja/
LOCATION:ÓE BGK – 1081 Budapest\, Népszínház utca 8.
ATTACH;FMTTYPE=image/jpeg:https://bgk.uni-obuda.hu/wp-content/uploads/2023/03/doctoral-event-2023-main-image.jpg
END:VEVENT
END:VCALENDAR