BEGIN:VCALENDAR
VERSION:2.0
PRODID:-//Óbudai Egyetem - Bánki Donát Gépész és Biztonságtechnikai Mérnöki Kar - ECPv6.15.12.2//NONSGML v1.0//EN
CALSCALE:GREGORIAN
METHOD:PUBLISH
X-ORIGINAL-URL:https://bgk.uni-obuda.hu
X-WR-CALDESC:Események Óbudai Egyetem - Bánki Donát Gépész és Biztonságtechnikai Mérnöki Kar
REFRESH-INTERVAL;VALUE=DURATION:PT1H
X-Robots-Tag:noindex
X-PUBLISHED-TTL:PT1H
BEGIN:VTIMEZONE
TZID:UTC
BEGIN:STANDARD
TZOFFSETFROM:+0000
TZOFFSETTO:+0000
TZNAME:UTC
DTSTART:20230101T000000
END:STANDARD
END:VTIMEZONE
BEGIN:VEVENT
DTSTART;TZID=UTC:20240927T130000
DTEND;TZID=UTC:20240927T150000
DTSTAMP:20260422T181601
CREATED:20240911T073639Z
LAST-MODIFIED:20240911T073639Z
UID:18218-1727442000-1727449200@bgk.uni-obuda.hu
SUMMARY:Milica Sikimić műhelyvitája
DESCRIPTION:Értekezéstervezet címe: Contemporary security framework for critical infrastructure  protection – the case study implementation in Bosnia and Herzegovina\nTémavezető: Prof. Dr. Besenyő János\nIdőpont: 2024. szeptember 27. péntek 13:00 óra\nHelyszín: Online – BigBlueButton felületen –  https://bbb2.banki.hu/b/drh-kp3-qqg-wa3
URL:https://bgk.uni-obuda.hu/event/milica-sikimic-muhelyvitaja/
ATTACH;FMTTYPE=image/jpeg:https://bgk.uni-obuda.hu/wp-content/uploads/2023/03/doctoral-event-2023-main-image.jpg
END:VEVENT
BEGIN:VEVENT
DTSTART;TZID=UTC:20240927T160000
DTEND;TZID=UTC:20240927T220000
DTSTAMP:20260422T181601
CREATED:20240905T123610Z
LAST-MODIFIED:20240905T123610Z
UID:18215-1727452800-1727474400@bgk.uni-obuda.hu
SUMMARY:Kutatók Éjszakája a Bánkin
DESCRIPTION:A Kutatók Éjszakája egy Európa-szerte megrendezett ingyenes eseménysorozat a tudomány és a kutatói életpálya népszerűsítésére. Idén is szeptember utolsó hétvégéjén lehet bepillantani a különböző tudományterületek titkaiba. \nSzórakoztató\, inspiráló előadásokon\, kísérleteken\, laborbejárásokon és további játékos programokon keresztül minden korosztály megismerkedhet a tudományos kutatás számos új eredményével.
URL:https://bgk.uni-obuda.hu/event/kutatok-ejszakaja-a-bankin/
LOCATION:ÓE BGK – 1081 Budapest\, Népszínház utca 8.
ATTACH;FMTTYPE=image/jpeg:https://bgk.uni-obuda.hu/wp-content/uploads/2024/09/bgk_kutej2024-event-image.jpg
END:VEVENT
END:VCALENDAR