BEGIN:VCALENDAR
VERSION:2.0
PRODID:-//Óbudai Egyetem - Bánki Donát Gépész és Biztonságtechnikai Mérnöki Kar - ECPv6.15.12.2//NONSGML v1.0//EN
CALSCALE:GREGORIAN
METHOD:PUBLISH
X-ORIGINAL-URL:https://bgk.uni-obuda.hu
X-WR-CALDESC:Események Óbudai Egyetem - Bánki Donát Gépész és Biztonságtechnikai Mérnöki Kar
REFRESH-INTERVAL;VALUE=DURATION:PT1H
X-Robots-Tag:noindex
X-PUBLISHED-TTL:PT1H
BEGIN:VTIMEZONE
TZID:UTC
BEGIN:STANDARD
TZOFFSETFROM:+0000
TZOFFSETTO:+0000
TZNAME:UTC
DTSTART:20240101T000000
END:STANDARD
END:VTIMEZONE
BEGIN:VEVENT
DTSTART;TZID=UTC:20250305T091500
DTEND;TZID=UTC:20250305T110000
DTSTAMP:20260422T091430
CREATED:20250228T095510Z
LAST-MODIFIED:20250228T095510Z
UID:18555-1741166100-1741172400@bgk.uni-obuda.hu
SUMMARY:Dobos Oszkár doktori értekezésének nyilvános vitája
DESCRIPTION:Értekezés címe:  KFI projektmenedzsment sajátosságai és hatékonysága\, az akadémiai és piaci szektor metszetében \nTémavezető: Prof. Dr. Csiszárik-Kocsir Ágnes \nIdőpont: 2025. március 5. szerda 9:15 óra \nHelyszín: Óbudai Egyetem – Bánki Donát Gépész és Biztonságtechnikai Mérnöki Kar – 1088 Budapest\, József körút 6. – II. emelet Konferenciaterem (J200/1)
URL:https://bgk.uni-obuda.hu/event/dobos-oszkar-doktori-ertekezesenek-nyilvanos-vitaja/
LOCATION:ÓE BGK – 1088 Budapest\, József körút 6. J.200 konferenciaterem\, József körút 6.\, Budapest\, 1088\, Magyarország
ATTACH;FMTTYPE=image/jpeg:https://bgk.uni-obuda.hu/wp-content/uploads/2023/03/doctoral-event-2023-main-image.jpg
END:VEVENT
BEGIN:VEVENT
DTSTART;TZID=UTC:20250305T141500
DTEND;TZID=UTC:20250305T160000
DTSTAMP:20260422T091430
CREATED:20250228T100125Z
LAST-MODIFIED:20250228T100125Z
UID:18557-1741184100-1741190400@bgk.uni-obuda.hu
SUMMARY:Szűcs Kata Rebeka doktori értekezésének nyilvános vitája
DESCRIPTION:Értekezés címe:  Mobil alkalmazásokkal kapcsolatos felhasználói biztonság \nTémavezető: Dr. habil. Reicher Regina \nIdőpont: 2025. március 5. szerda 14:15 óra \nHelyszín: Óbudai Egyetem – Bánki Donát Gépész és Biztonságtechnikai Mérnöki Kar – 1088 Budapest\, József körút 6. – II. emelet Konferenciaterem (J200/2)
URL:https://bgk.uni-obuda.hu/event/szucs-kata-rebeka-doktori-ertekezesenek-nyilvanos-vitaja/
LOCATION:ÓE BGK – 1088 Budapest\, József körút 6. J.200 konferenciaterem\, József körút 6.\, Budapest\, 1088\, Magyarország
ATTACH;FMTTYPE=image/jpeg:https://bgk.uni-obuda.hu/wp-content/uploads/2023/03/doctoral-event-2023-main-image.jpg
END:VEVENT
END:VCALENDAR