BEGIN:VCALENDAR
VERSION:2.0
PRODID:-//Óbudai Egyetem - Bánki Donát Gépész és Biztonságtechnikai Mérnöki Kar - ECPv6.15.12.2//NONSGML v1.0//EN
CALSCALE:GREGORIAN
METHOD:PUBLISH
X-ORIGINAL-URL:https://bgk.uni-obuda.hu
X-WR-CALDESC:Események Óbudai Egyetem - Bánki Donát Gépész és Biztonságtechnikai Mérnöki Kar
REFRESH-INTERVAL;VALUE=DURATION:PT1H
X-Robots-Tag:noindex
X-PUBLISHED-TTL:PT1H
BEGIN:VTIMEZONE
TZID:UTC
BEGIN:STANDARD
TZOFFSETFROM:+0000
TZOFFSETTO:+0000
TZNAME:UTC
DTSTART:20240101T000000
END:STANDARD
END:VTIMEZONE
BEGIN:VEVENT
DTSTART;TZID=UTC:20250410T100000
DTEND;TZID=UTC:20250410T150000
DTSTAMP:20260422T073828
CREATED:20250328T153016Z
LAST-MODIFIED:20250328T153016Z
UID:18759-1744279200-1744297200@bgk.uni-obuda.hu
SUMMARY:Lányok Napja a Bánkin
DESCRIPTION:Időpont:\n2025.04.10. csütörtök 10:00-tól \nHelyszín:\nÓbudai Egyetem Bánki Donát Gépész és Biztonságtechnikai Mérnöki Kar\n1081 Budapest\, Népszínház utca 8. \nHol találkozunk? J.200 konferenciaterem | Bejárat a József körút 6. szám alatt! \nElvárt öltözet: hétköznapi viselet \nMinimum életkor: 12 \nEzekkel a szakmákkal ismerkedhetsz meg: \n\nenergetikai mérnök\ngépészmérnök\nmechatronikai mérnök\nkutató\n\nRegisztráció\nAz eseményünkre a Lányok Napja hivatalos oldalán tudtok regisztrálni.
URL:https://bgk.uni-obuda.hu/event/lanyok-napja-a-bankin-2/
ATTACH;FMTTYPE=image/jpeg:https://bgk.uni-obuda.hu/wp-content/uploads/2025/03/lanyok-napja-2025-event-image.jpg
END:VEVENT
BEGIN:VEVENT
DTSTART;TZID=UTC:20250410T120000
DTEND;TZID=UTC:20250410T230000
DTSTAMP:20260422T073828
CREATED:20250328T153203Z
LAST-MODIFIED:20250328T153203Z
UID:18763-1744286400-1744326000@bgk.uni-obuda.hu
SUMMARY:XXXVII. Bánki Hagyományőrző Kupa
DESCRIPTION:
URL:https://bgk.uni-obuda.hu/event/xxxvii-banki-hagyomanyorzo-kupa/
ATTACH;FMTTYPE=image/jpeg:https://bgk.uni-obuda.hu/wp-content/uploads/2025/03/hagyo-37-event-image.jpg
END:VEVENT
BEGIN:VEVENT
DTSTART;TZID=UTC:20250410T130000
DTEND;TZID=UTC:20250410T140000
DTSTAMP:20260422T073828
CREATED:20250304T085030Z
LAST-MODIFIED:20250304T085030Z
UID:18566-1744290000-1744293600@bgk.uni-obuda.hu
SUMMARY:Tésztahíd-építő háziverseny
DESCRIPTION:Részletek és regisztráció: https://bgk.uni-obuda.hu/tesztahid-epito-haziverseny/
URL:https://bgk.uni-obuda.hu/event/tesztahid-epito-haziverseny/
LOCATION:ÓE BGK – 1081 Budapest\, Népszínház utca 8.
ATTACH;FMTTYPE=image/jpeg:https://bgk.uni-obuda.hu/wp-content/uploads/2023/11/OE-BGK-tesztahid-epito-haziverseny-2023-main-image.jpg
END:VEVENT
END:VCALENDAR