BEGIN:VCALENDAR
VERSION:2.0
PRODID:-//Óbudai Egyetem - Bánki Donát Gépész és Biztonságtechnikai Mérnöki Kar - ECPv6.15.12.2//NONSGML v1.0//EN
CALSCALE:GREGORIAN
METHOD:PUBLISH
X-ORIGINAL-URL:https://bgk.uni-obuda.hu
X-WR-CALDESC:Események Óbudai Egyetem - Bánki Donát Gépész és Biztonságtechnikai Mérnöki Kar
REFRESH-INTERVAL;VALUE=DURATION:PT1H
X-Robots-Tag:noindex
X-PUBLISHED-TTL:PT1H
BEGIN:VTIMEZONE
TZID:UTC
BEGIN:STANDARD
TZOFFSETFROM:+0000
TZOFFSETTO:+0000
TZNAME:UTC
DTSTART:20240101T000000
END:STANDARD
END:VTIMEZONE
BEGIN:VEVENT
DTSTART;VALUE=DATE:20250718
DTEND;VALUE=DATE:20250719
DTSTAMP:20260422T024403
CREATED:20250626T051358Z
LAST-MODIFIED:20250630T101444Z
UID:19310-1752796800-1752883199@bgk.uni-obuda.hu
SUMMARY:Diplomaátadó Ünnepség / Graduation Ceremony (BSc\, MSc képzések)
DESCRIPTION:Az Óbudai Egyetem Bánki Kara 2025. július 18-án tartja diplomaátadó ünnepségét az ELTE Gömb Aulájában (1117 Budapest\, Pázmány Péter stny. 1/A.). \nAz eseményre a hallgatóknak regisztrálniuk kell\, amely regisztrációról hamarosan Neptun üzenet formájában értesítést fognak kapni.
URL:https://bgk.uni-obuda.hu/event/diplomaatado-unnepseg-graduation-ceremony/
LOCATION:ELTE Gömb Aula\, Pázmány Péter sétány 1/A.\, Budapest\, 1117\, Magyarország
ATTACH;FMTTYPE=image/jpeg:https://bgk.uni-obuda.hu/wp-content/uploads/2025/06/diplomaatado-event-image-2025.jpg
END:VEVENT
END:VCALENDAR