BEGIN:VCALENDAR
VERSION:2.0
PRODID:-//Óbudai Egyetem - Bánki Donát Gépész és Biztonságtechnikai Mérnöki Kar - ECPv6.15.12.2//NONSGML v1.0//EN
CALSCALE:GREGORIAN
METHOD:PUBLISH
X-ORIGINAL-URL:https://bgk.uni-obuda.hu
X-WR-CALDESC:Események Óbudai Egyetem - Bánki Donát Gépész és Biztonságtechnikai Mérnöki Kar
REFRESH-INTERVAL;VALUE=DURATION:PT1H
X-Robots-Tag:noindex
X-PUBLISHED-TTL:PT1H
BEGIN:VTIMEZONE
TZID:UTC
BEGIN:STANDARD
TZOFFSETFROM:+0000
TZOFFSETTO:+0000
TZNAME:UTC
DTSTART:20240101T000000
END:STANDARD
END:VTIMEZONE
BEGIN:VEVENT
DTSTART;VALUE=DATE:20250805
DTEND;VALUE=DATE:20250809
DTSTAMP:20260422T010712
CREATED:20250623T064618Z
LAST-MODIFIED:20250623T064618Z
UID:19295-1754352000-1754697599@bgk.uni-obuda.hu
SUMMARY:Nyári Egyetem a Bánkin
DESCRIPTION:
URL:https://bgk.uni-obuda.hu/event/nyari-egyetem-a-bankin-2/
LOCATION:ÓE BGK – 1081 Budapest\, Népszínház utca 8.
ATTACH;FMTTYPE=image/jpeg:https://bgk.uni-obuda.hu/wp-content/uploads/2025/06/nyari-egyetem-bgk-2025_event-image.jpg
END:VEVENT
END:VCALENDAR