BEGIN:VCALENDAR
VERSION:2.0
PRODID:-//Óbudai Egyetem - Bánki Donát Gépész és Biztonságtechnikai Mérnöki Kar - ECPv6.15.12.2//NONSGML v1.0//EN
CALSCALE:GREGORIAN
METHOD:PUBLISH
X-ORIGINAL-URL:https://bgk.uni-obuda.hu
X-WR-CALDESC:Események Óbudai Egyetem - Bánki Donát Gépész és Biztonságtechnikai Mérnöki Kar
REFRESH-INTERVAL;VALUE=DURATION:PT1H
X-Robots-Tag:noindex
X-PUBLISHED-TTL:PT1H
BEGIN:VTIMEZONE
TZID:UTC
BEGIN:STANDARD
TZOFFSETFROM:+0000
TZOFFSETTO:+0000
TZNAME:UTC
DTSTART:20240101T000000
END:STANDARD
END:VTIMEZONE
BEGIN:VEVENT
DTSTART;VALUE=DATE:20250925
DTEND;VALUE=DATE:20250926
DTSTAMP:20260421T232314
CREATED:20250916T082750Z
LAST-MODIFIED:20250916T082823Z
UID:20003-1758758400-1758844799@bgk.uni-obuda.hu
SUMMARY:XXXVIII. Hagyományőrző Kupa
DESCRIPTION:XXXVIII. Hagyományőrző Kupa „LIGHT”\nÚj helyszín\, új élmények! \nMost kicsit másképp… de a hagyomány nem maradhat el!\nA kari főépület felújítása miatt a Frangepán utcai épület udvarán találkozunk.\n\nMiért érdemes eljönni?– Megismerhetitek hallgatói köreinket\, akár csatlakozhattok is hozzájuk – Egész nap lesz lehetőség sörpongozni – Részt vehettek a legendás sörváltóban – A jó hangulatról pedig a sör\, a hotdog és a sültkrumpli gondoskodik majd \n\nEzúttal lazább formában rendezzük meg az eseményt – pont\, mint a Coca Cola Light – ugyanaz az élmény\, csak kicsit más köntösben. \nHelyszín: Frangepán utcai épület udvara\nIdőpont: 2025.09.25. 10 órai kezdés\n\n A részletekkel hamarosan jövünk!\n Ne maradj ki\, hiszen a hagyomány most is folytatódik – csak egy kicsit másképp. \n\nÜdv\,Bánki HÖK
URL:https://bgk.uni-obuda.hu/event/xxxviii-hagyomanyorzo-kupa-light/
LOCATION:ÓE BGK – 1139 Budapest\, Frangepán utca 50.\, Frangepán utca 50.\, Budapest\, 1139
ATTACH;FMTTYPE=image/jpeg:https://bgk.uni-obuda.hu/wp-content/uploads/2025/09/38.-hagyomanyorzo-kupa-2025-event-image.jpg
END:VEVENT
END:VCALENDAR