BEGIN:VCALENDAR
VERSION:2.0
PRODID:-//Óbudai Egyetem - Bánki Donát Gépész és Biztonságtechnikai Mérnöki Kar - ECPv6.15.12.2//NONSGML v1.0//EN
CALSCALE:GREGORIAN
METHOD:PUBLISH
X-ORIGINAL-URL:https://bgk.uni-obuda.hu
X-WR-CALDESC:Események Óbudai Egyetem - Bánki Donát Gépész és Biztonságtechnikai Mérnöki Kar
REFRESH-INTERVAL;VALUE=DURATION:PT1H
X-Robots-Tag:noindex
X-PUBLISHED-TTL:PT1H
BEGIN:VTIMEZONE
TZID:UTC
BEGIN:STANDARD
TZOFFSETFROM:+0000
TZOFFSETTO:+0000
TZNAME:UTC
DTSTART:20240101T000000
END:STANDARD
END:VTIMEZONE
BEGIN:VEVENT
DTSTART;TZID=UTC:20250926T160000
DTEND;TZID=UTC:20250926T220000
DTSTAMP:20260421T232313
CREATED:20250905T070545Z
LAST-MODIFIED:20250911T092612Z
UID:19913-1758902400-1758924000@bgk.uni-obuda.hu
SUMMARY:Kutatók Éjszakája 2025
DESCRIPTION:Kutatók Éjszakája a Bánki Kar József körúti szárnyában. \nBejárat: 1088 Budapest\, József körút 6.
URL:https://bgk.uni-obuda.hu/event/kutatok-ejszakaja-2025/
LOCATION:ÓE BGK – 1081 Budapest\, Népszínház utca 8.
ATTACH;FMTTYPE=image/jpeg:https://bgk.uni-obuda.hu/wp-content/uploads/2025/09/Kutatok-Ejszakaja-2025-event-image.jpg
END:VEVENT
END:VCALENDAR