BEGIN:VCALENDAR
VERSION:2.0
PRODID:-//Óbudai Egyetem - Bánki Donát Gépész és Biztonságtechnikai Mérnöki Kar - ECPv6.15.12.2//NONSGML v1.0//EN
CALSCALE:GREGORIAN
METHOD:PUBLISH
X-WR-CALNAME:Óbudai Egyetem - Bánki Donát Gépész és Biztonságtechnikai Mérnöki Kar
X-ORIGINAL-URL:https://bgk.uni-obuda.hu
X-WR-CALDESC:Események Óbudai Egyetem - Bánki Donát Gépész és Biztonságtechnikai Mérnöki Kar
REFRESH-INTERVAL;VALUE=DURATION:PT1H
X-Robots-Tag:noindex
X-PUBLISHED-TTL:PT1H
BEGIN:VTIMEZONE
TZID:UTC
BEGIN:STANDARD
TZOFFSETFROM:+0000
TZOFFSETTO:+0000
TZNAME:UTC
DTSTART:20240101T000000
END:STANDARD
END:VTIMEZONE
BEGIN:VEVENT
DTSTART;TZID=UTC:20251015T083000
DTEND;TZID=UTC:20251015T173000
DTSTAMP:20260421T215148
CREATED:20250627T060140Z
LAST-MODIFIED:20251014T110045Z
UID:19336-1760517000-1760549400@bgk.uni-obuda.hu
SUMMARY:Alverad-Bánki Nemzetközi Kiberbiztonsági és Kutatás-Fejlesztési Konferencia
DESCRIPTION:Az Alverad Technology Focus Kft. és az Óbudai Egyetem Bánki Karának közös szervezésben\n2025. október 15-én harmadik alkalommal rendezi meg nemzetközi tudományos konferenciáját\, hibrid formában. \n\nA konferencia nyelve magyar és angol. \nA konferencia célja\, hogy a legújabb hazai és nemzetközi kutatási eredményeket a szakértő közönség számára elérhetővé tegyük\, továbbá lehetőséget biztosítsunk a fiatal kutatók\, a PhD hallgatók számára a publikációs gyakorlat megszerzésére\, diplomamunkák eredményeinek bemutatására. \nCélunk továbbá\, hogy a társ egyetemek oktatói és hallgatói\, valamint kollégáink tudományos kapcsolatai elmélyüljenek. \nAz Alverad-Bánki Nemzetközi Kiberbiztonsági és Kutatás-Fejlesztési Konferencia lehetőséget biztosít elsősorban a kiberbiztonság\, a mesterséges intelligencia\, továbbá a biztonságtechnikai\, villamosmérnöki és informatikai tudományok területéről kutatási eredmények bemutatására.
URL:https://bgk.uni-obuda.hu/event/alverad-banki-nemzetkozi-kiberbiztonsagi-es-kutatas-fejlesztesi-konferencia/
LOCATION:ÓE BGK – 1081 Budapest\, Népszínház utca 8.
ATTACH;FMTTYPE=image/jpeg:https://bgk.uni-obuda.hu/wp-content/uploads/2025/06/Alverad-Banki-Nemzetkozi-Kiberbiztonsagi-es-K-F-Konferencia-2025-event-image-v2.jpg
END:VEVENT
END:VCALENDAR