BEGIN:VCALENDAR
VERSION:2.0
PRODID:-//Óbudai Egyetem - Bánki Donát Gépész és Biztonságtechnikai Mérnöki Kar - ECPv6.15.12.2//NONSGML v1.0//EN
CALSCALE:GREGORIAN
METHOD:PUBLISH
X-WR-CALNAME:Óbudai Egyetem - Bánki Donát Gépész és Biztonságtechnikai Mérnöki Kar
X-ORIGINAL-URL:https://bgk.uni-obuda.hu
X-WR-CALDESC:Események Óbudai Egyetem - Bánki Donát Gépész és Biztonságtechnikai Mérnöki Kar
REFRESH-INTERVAL;VALUE=DURATION:PT1H
X-Robots-Tag:noindex
X-PUBLISHED-TTL:PT1H
BEGIN:VTIMEZONE
TZID:Europe/Helsinki
BEGIN:DAYLIGHT
TZOFFSETFROM:+0200
TZOFFSETTO:+0300
TZNAME:EEST
DTSTART:20240331T010000
END:DAYLIGHT
BEGIN:STANDARD
TZOFFSETFROM:+0300
TZOFFSETTO:+0200
TZNAME:EET
DTSTART:20241027T010000
END:STANDARD
BEGIN:DAYLIGHT
TZOFFSETFROM:+0200
TZOFFSETTO:+0300
TZNAME:EEST
DTSTART:20250330T010000
END:DAYLIGHT
BEGIN:STANDARD
TZOFFSETFROM:+0300
TZOFFSETTO:+0200
TZNAME:EET
DTSTART:20251026T010000
END:STANDARD
BEGIN:DAYLIGHT
TZOFFSETFROM:+0200
TZOFFSETTO:+0300
TZNAME:EEST
DTSTART:20260329T010000
END:DAYLIGHT
BEGIN:STANDARD
TZOFFSETFROM:+0300
TZOFFSETTO:+0200
TZNAME:EET
DTSTART:20261025T010000
END:STANDARD
END:VTIMEZONE
BEGIN:VEVENT
DTSTART;TZID=Europe/Helsinki:20251022T113000
DTEND;TZID=Europe/Helsinki:20251022T120000
DTSTAMP:20260421T215111
CREATED:20251018T093424Z
LAST-MODIFIED:20251018T093424Z
UID:20282-1761132600-1761134400@bgk.uni-obuda.hu
SUMMARY:Jeszenszki Sarolta kiállításmegnyitója
DESCRIPTION:Az Óbudai Egyetem Bánki Donát Gépész és Biztonságtechnikai Mérnöki Kara tisztelettel meghívja Önt \nJESZENSZKI SAROLTA „Fátum” címmel megrendezésre kerülő kiállításának megnyitójára. \nA kiállítást megnyitja: Dr. habil Farkas Tibor dékán \nHelyszín: Frangepán utcai campus\, Földszinti Közösségi tér
URL:https://bgk.uni-obuda.hu/event/jeszenszki-sarolta-kiallitasmegnyitoja/
LOCATION:ÓE BGK – 1139 Budapest\, Frangepán utca 50. Földszinti Közösségi Tér\, Frangepán utca 50.\, Budapest\, 1139\, Magyarország
ATTACH;FMTTYPE=image/png:https://bgk.uni-obuda.hu/wp-content/uploads/2025/10/fatum-jeszenszki-sarolta-kiallitas-meghivo-2025-event-image-v2.png
END:VEVENT
END:VCALENDAR