BEGIN:VCALENDAR
VERSION:2.0
PRODID:-//Óbudai Egyetem - Bánki Donát Gépész és Biztonságtechnikai Mérnöki Kar - ECPv6.15.12.2//NONSGML v1.0//EN
CALSCALE:GREGORIAN
METHOD:PUBLISH
X-WR-CALNAME:Óbudai Egyetem - Bánki Donát Gépész és Biztonságtechnikai Mérnöki Kar
X-ORIGINAL-URL:https://bgk.uni-obuda.hu
X-WR-CALDESC:Események Óbudai Egyetem - Bánki Donát Gépész és Biztonságtechnikai Mérnöki Kar
REFRESH-INTERVAL;VALUE=DURATION:PT1H
X-Robots-Tag:noindex
X-PUBLISHED-TTL:PT1H
BEGIN:VTIMEZONE
TZID:UTC
BEGIN:STANDARD
TZOFFSETFROM:+0000
TZOFFSETTO:+0000
TZNAME:UTC
DTSTART:20240101T000000
END:STANDARD
END:VTIMEZONE
BEGIN:VEVENT
DTSTART;TZID=UTC:20251120T090000
DTEND;TZID=UTC:20251120T160000
DTSTAMP:20260421T201833
CREATED:20250905T071247Z
LAST-MODIFIED:20251018T085154Z
UID:19925-1763629200-1763654400@bgk.uni-obuda.hu
SUMMARY:Szilvay Kornél Tűzvédelmi Konferencia 2025
DESCRIPTION:
URL:https://bgk.uni-obuda.hu/event/szilvay-kornel-tuzvedelmi-konferencia-2025/
LOCATION:ÓE BGK – 1088 Budapest\, József körút 6. J.200 konferenciaterem\, József körút 6.\, Budapest\, 1088\, Magyarország
ATTACH;FMTTYPE=image/png:https://bgk.uni-obuda.hu/wp-content/uploads/2025/09/BGK-Szilvay-Kornel-konferencia-2025-event-image.png
END:VEVENT
END:VCALENDAR