BEGIN:VCALENDAR
VERSION:2.0
PRODID:-//Óbudai Egyetem - Bánki Donát Gépész és Biztonságtechnikai Mérnöki Kar - ECPv6.15.12.2//NONSGML v1.0//EN
CALSCALE:GREGORIAN
METHOD:PUBLISH
X-WR-CALNAME:Óbudai Egyetem - Bánki Donát Gépész és Biztonságtechnikai Mérnöki Kar
X-ORIGINAL-URL:https://bgk.uni-obuda.hu
X-WR-CALDESC:Események Óbudai Egyetem - Bánki Donát Gépész és Biztonságtechnikai Mérnöki Kar
REFRESH-INTERVAL;VALUE=DURATION:PT1H
X-Robots-Tag:noindex
X-PUBLISHED-TTL:PT1H
BEGIN:VTIMEZONE
TZID:Europe/Paris
BEGIN:DAYLIGHT
TZOFFSETFROM:+0100
TZOFFSETTO:+0200
TZNAME:CEST
DTSTART:20240331T010000
END:DAYLIGHT
BEGIN:STANDARD
TZOFFSETFROM:+0200
TZOFFSETTO:+0100
TZNAME:CET
DTSTART:20241027T010000
END:STANDARD
BEGIN:DAYLIGHT
TZOFFSETFROM:+0100
TZOFFSETTO:+0200
TZNAME:CEST
DTSTART:20250330T010000
END:DAYLIGHT
BEGIN:STANDARD
TZOFFSETFROM:+0200
TZOFFSETTO:+0100
TZNAME:CET
DTSTART:20251026T010000
END:STANDARD
BEGIN:DAYLIGHT
TZOFFSETFROM:+0100
TZOFFSETTO:+0200
TZNAME:CEST
DTSTART:20260329T010000
END:DAYLIGHT
BEGIN:STANDARD
TZOFFSETFROM:+0200
TZOFFSETTO:+0100
TZNAME:CET
DTSTART:20261025T010000
END:STANDARD
END:VTIMEZONE
BEGIN:VEVENT
DTSTART;TZID=Europe/Paris:20251213T103000
DTEND;TZID=Europe/Paris:20251213T154000
DTSTAMP:20260421T171657
CREATED:20251211T095832Z
LAST-MODIFIED:20251211T095832Z
UID:21066-1765621800-1765640400@bgk.uni-obuda.hu
SUMMARY:Bánkis kis mérnökök - hídtervezés tésztából | program gyermekeknek
DESCRIPTION:Bánkis kis mérnökök – hídtervezés tésztából\n\n\n\n\n\n\n\nKiscsoportos foglalkozások gyerekeknek\, 8 éves kortól. \nAz 1 órás foglalkozások során a gyerekek egy rövid bemutató előadás után megépíthetik saját tészta hídjukat az Óbudai Egyetem Bánki Donát gépészeti és biztonságtechnikai mérnöki kara hallgatóinak segítségével. \nIdőpont: December 13.\, szombat 10.30 – 15.40 \nTurnusok: \n\n10.30 – 11.30\n11.40 – 12.40\n13.30 – 14.30\n14.40 – 15.40\n\nMax. 15 gyermek / alkalom. \nA kísérő szülők ez idő alatt felfedezhetik a múzeum állandó és időszaki kiállításait. \nKérjük\, a gyermek nevével regisztráljanak! \nRegisztrációval\, belépőjegy váltása mellett látogatható program.\nRegisztráció: https://app.minup.io/book/obudai-muzeum/events/9cdb6643-04d1-4cfc-aecd-ac26e4ccfecb
URL:https://bgk.uni-obuda.hu/event/bankis-kis-mernokok-hidtervezes-tesztabol-program-gyermekeknek/
LOCATION:Óbudai Múzeum – 1033 Budapest\, Fő tér 1.\, Fő tér 1.\, Budapest\, 1033\, Hungary
ATTACH;FMTTYPE=image/png:https://bgk.uni-obuda.hu/wp-content/uploads/2025/12/hidtervezes-tesztabol-event-image.png
END:VEVENT
END:VCALENDAR