BEGIN:VCALENDAR
VERSION:2.0
PRODID:-//Óbudai Egyetem - Bánki Donát Gépész és Biztonságtechnikai Mérnöki Kar - ECPv6.15.12.2//NONSGML v1.0//EN
CALSCALE:GREGORIAN
METHOD:PUBLISH
X-ORIGINAL-URL:https://bgk.uni-obuda.hu
X-WR-CALDESC:Események Óbudai Egyetem - Bánki Donát Gépész és Biztonságtechnikai Mérnöki Kar
REFRESH-INTERVAL;VALUE=DURATION:PT1H
X-Robots-Tag:noindex
X-PUBLISHED-TTL:PT1H
BEGIN:VTIMEZONE
TZID:Europe/Paris
BEGIN:DAYLIGHT
TZOFFSETFROM:+0100
TZOFFSETTO:+0200
TZNAME:CEST
DTSTART:20250330T010000
END:DAYLIGHT
BEGIN:STANDARD
TZOFFSETFROM:+0200
TZOFFSETTO:+0100
TZNAME:CET
DTSTART:20251026T010000
END:STANDARD
BEGIN:DAYLIGHT
TZOFFSETFROM:+0100
TZOFFSETTO:+0200
TZNAME:CEST
DTSTART:20260329T010000
END:DAYLIGHT
BEGIN:STANDARD
TZOFFSETFROM:+0200
TZOFFSETTO:+0100
TZNAME:CET
DTSTART:20261025T010000
END:STANDARD
BEGIN:DAYLIGHT
TZOFFSETFROM:+0100
TZOFFSETTO:+0200
TZNAME:CEST
DTSTART:20270328T010000
END:DAYLIGHT
BEGIN:STANDARD
TZOFFSETFROM:+0200
TZOFFSETTO:+0100
TZNAME:CET
DTSTART:20271031T010000
END:STANDARD
END:VTIMEZONE
BEGIN:VEVENT
DTSTART;TZID=Europe/Paris:20260108T100000
DTEND;TZID=Europe/Paris:20260110T170000
DTSTAMP:20260421T153546
CREATED:20251217T201221Z
LAST-MODIFIED:20251217T201221Z
UID:21086-1767866400-1768064400@bgk.uni-obuda.hu
SUMMARY:EDUCATIO Kiállítás 2026
DESCRIPTION:Januárban újra Educatio Kiállítás!  Találkozz az Óbudai Egyetem Bánkis hallgatóival a kiállításon\, kérdezz szakjainkról\, felvételiről\, bármiről ami érdekel\, kötetlenül. \nInformációk:\n Helyszín: Hungexpo A és D pavilon (1101 Budapest\, Albertirsai út 10.)\n Időpont: 2026. január 8-10.\, (csütörtöktől szombatig)\, minden nap 10:00–17:00 között.\n A részvétel ingyenes\, de regisztrációhoz kötött!\n Egyéni és csoportos regisztráció október végén az Universum.hu appban.\nKészülj fel\, és töltsd le még ma!\n Letöltés Android-készülékekre:\nhttps://play.google.com/store/apps/details?id=hu.universum.app\n Letöltés Apple-készülékekre:\nhttps://apps.apple.com/hu/app/universum-hu/id6474875578?l=hu
URL:https://bgk.uni-obuda.hu/event/educatio-kiallitas-2026/
LOCATION:Hungexpo 1101 Albertirsai út 10.\, Albertirsai út 10.\, Budapest\, 1101\, Magyarország
ATTACH;FMTTYPE=image/jpeg:https://bgk.uni-obuda.hu/wp-content/uploads/2025/12/edu2026-event-image.jpg
END:VEVENT
END:VCALENDAR