BEGIN:VCALENDAR
VERSION:2.0
PRODID:-//Óbudai Egyetem - Bánki Donát Gépész és Biztonságtechnikai Mérnöki Kar - ECPv6.15.12.2//NONSGML v1.0//EN
CALSCALE:GREGORIAN
METHOD:PUBLISH
X-WR-CALNAME:Óbudai Egyetem - Bánki Donát Gépész és Biztonságtechnikai Mérnöki Kar
X-ORIGINAL-URL:https://bgk.uni-obuda.hu
X-WR-CALDESC:Események Óbudai Egyetem - Bánki Donát Gépész és Biztonságtechnikai Mérnöki Kar
REFRESH-INTERVAL;VALUE=DURATION:PT1H
X-Robots-Tag:noindex
X-PUBLISHED-TTL:PT1H
BEGIN:VTIMEZONE
TZID:Europe/Paris
BEGIN:DAYLIGHT
TZOFFSETFROM:+0100
TZOFFSETTO:+0200
TZNAME:CEST
DTSTART:20250330T010000
END:DAYLIGHT
BEGIN:STANDARD
TZOFFSETFROM:+0200
TZOFFSETTO:+0100
TZNAME:CET
DTSTART:20251026T010000
END:STANDARD
BEGIN:DAYLIGHT
TZOFFSETFROM:+0100
TZOFFSETTO:+0200
TZNAME:CEST
DTSTART:20260329T010000
END:DAYLIGHT
BEGIN:STANDARD
TZOFFSETFROM:+0200
TZOFFSETTO:+0100
TZNAME:CET
DTSTART:20261025T010000
END:STANDARD
BEGIN:DAYLIGHT
TZOFFSETFROM:+0100
TZOFFSETTO:+0200
TZNAME:CEST
DTSTART:20270328T010000
END:DAYLIGHT
BEGIN:STANDARD
TZOFFSETFROM:+0200
TZOFFSETTO:+0100
TZNAME:CET
DTSTART:20271031T010000
END:STANDARD
END:VTIMEZONE
BEGIN:VEVENT
DTSTART;TZID=Europe/Paris:20260205T100000
DTEND;TZID=Europe/Paris:20260205T140000
DTSTAMP:20260421T141457
CREATED:20251217T201516Z
LAST-MODIFIED:20251217T201516Z
UID:21092-1770285600-1770300000@bgk.uni-obuda.hu
SUMMARY:Nyílt Nap a Bánkin
DESCRIPTION:Kedves Érdeklődők! \nA 2025-ös év számos újdonságot tartogat az Óbudai Egyetem Bánki Kar életében\, elkezdődött például a Népszínház utcai campus legnagyobb előadótermének és környezetének felújítása\, melynek helyén egy modern\, közel 250 fős előadó\, egyben 150 fő elektronikus vizsgáztatásra alkalmas tér épül meg\, ezzel párhuzamosan pedig az előadó tetőszintjén két emelet magas\, üvegtetővel borított aula kerül kialakításra. \nA változás nyílt napjainkat is érinti\, 2025-2026. évi nyílt napjainkon limitált férőhelyek állnak rendelkezésre\, és nyílt napjaink csak regisztrációhoz kötötten látogathatók. A regisztrációs felületet alább találják\, kérjük\, hogy minden érdeklődő csak arra a nyílt napra regisztráljon\, amelyen tervezi\, hogy részt vesz. \nNyílt napunkon a részvétel ingyenes\, de regisztrációhoz kötött! Regisztráció hiányában nem áll módunkban hallgatókat fogadni. Kérjük\, hogy az esetleges kísérők (szülők\, barátok) is regisztráljanak.
URL:https://bgk.uni-obuda.hu/event/nyilt-nap-a-bankin-12/
LOCATION:ÓE BGK – 1088 Budapest\, József körút 6. J.200 konferenciaterem\, József körút 6.\, Budapest\, 1088\, Magyarország
ATTACH;FMTTYPE=image/jpeg:https://bgk.uni-obuda.hu/wp-content/uploads/2025/10/nyilt-napok-a-bankin-2025-26-event-image-v2.jpg
END:VEVENT
END:VCALENDAR