BEGIN:VCALENDAR
VERSION:2.0
PRODID:-//Óbudai Egyetem - Bánki Donát Gépész és Biztonságtechnikai Mérnöki Kar - ECPv6.15.12.2//NONSGML v1.0//EN
CALSCALE:GREGORIAN
METHOD:PUBLISH
X-WR-CALNAME:Óbudai Egyetem - Bánki Donát Gépész és Biztonságtechnikai Mérnöki Kar
X-ORIGINAL-URL:https://bgk.uni-obuda.hu
X-WR-CALDESC:Események Óbudai Egyetem - Bánki Donát Gépész és Biztonságtechnikai Mérnöki Kar
REFRESH-INTERVAL;VALUE=DURATION:PT1H
X-Robots-Tag:noindex
X-PUBLISHED-TTL:PT1H
BEGIN:VTIMEZONE
TZID:Europe/Paris
BEGIN:DAYLIGHT
TZOFFSETFROM:+0100
TZOFFSETTO:+0200
TZNAME:CEST
DTSTART:20250330T010000
END:DAYLIGHT
BEGIN:STANDARD
TZOFFSETFROM:+0200
TZOFFSETTO:+0100
TZNAME:CET
DTSTART:20251026T010000
END:STANDARD
BEGIN:DAYLIGHT
TZOFFSETFROM:+0100
TZOFFSETTO:+0200
TZNAME:CEST
DTSTART:20260329T010000
END:DAYLIGHT
BEGIN:STANDARD
TZOFFSETFROM:+0200
TZOFFSETTO:+0100
TZNAME:CET
DTSTART:20261025T010000
END:STANDARD
BEGIN:DAYLIGHT
TZOFFSETFROM:+0100
TZOFFSETTO:+0200
TZNAME:CEST
DTSTART:20270328T010000
END:DAYLIGHT
BEGIN:STANDARD
TZOFFSETFROM:+0200
TZOFFSETTO:+0100
TZNAME:CET
DTSTART:20271031T010000
END:STANDARD
END:VTIMEZONE
BEGIN:VEVENT
DTSTART;TZID=Europe/Paris:20260227T100000
DTEND;TZID=Europe/Paris:20260227T120000
DTSTAMP:20260421T130104
CREATED:20260211T073605Z
LAST-MODIFIED:20260211T073605Z
UID:21567-1772186400-1772193600@bgk.uni-obuda.hu
SUMMARY:DOMONYI ERZSÉBET doktori (PhD) értekezéstervezetének műhelyvitája | Home Defense
DESCRIPTION:A Biztonságtudományi Doktori Iskola meghívja Önt \nDOMONYI ERZSÉBET: A kritikus infrastruktúra létesítményeinek telepítési sajátosságai \ncímű doktori (PhD) értekezéstervezet műhelyvitájára. \nTémavezető: Prof. Dr. Réger Mihály és Prof. Dr. Zachár András \nA műhelyvita időpontja: 2026. február 27. (péntek) 10:00 óra \nA műhelyvita helyszíne: Óbudai Egyetem – Bánki Donát Gépész és Biztonságtechnikai Mérnöki Kar – 1088 Budapest\, József körút 6. – III. emelet J312-es terem \nAz értekezéstervezet megtalálható a Doktori Iskola honlapján: https://bdi.uni-obuda.hu/hu/doktori-cselekmenyek \nKérem\, amennyiben ideje engedi\, vegyen részt a műhelyvitán\, hozzászólásával segítse a jelöltet értekezésének elkészítésében! \nBudapest\, 2026. február 10. \n  \nINVITATION \nto the Home Defense of a Doctoral Dissertation \nThe Doctoral School on Safety and Security Sciences cordially invite you to the home defense of the doctoral dissertation of Erzsébet DOMONYI. \nSupervisor: Prof. Dr. Mihály RÉGER and Prof. Dr. András ZACHÁR \nTitle of the dissertation: A kritikus infrastruktúra létesítményeinek telepítési sajátosságai – Specificities of the Deployment of Critical Infrastructure Facilities \nDate: 27 February\, 2026\, at 10:00 a.m. \nVenue: Óbuda University – Bánki Donát Faculty of Mechanical and Safety Engineering \n1088 Budapest\, József körút 6.\, 3rd floor\, Room nr. J312 \nThe language of the procedure is Hungarian. \nShould your schedule allow\, you are cordially invited to attend the home defense (workshop discussion) and to support the candidate in the completion of the dissertation through your valuable comments and insights. \nBudapest\, 10 February 2026
URL:https://bgk.uni-obuda.hu/event/domonyi-erzsebet-doktori-phd-ertekezestervezetenek-muhelyvitaja-home-defense/
LOCATION:ÓE BGK – 1088 Budapest\, József körút 6. J.312.\, József körút 6.\, Budapest\, 1088
ATTACH;FMTTYPE=image/jpeg:https://bgk.uni-obuda.hu/wp-content/uploads/2025/06/doctoral-school-event-2025-1.jpg
END:VEVENT
END:VCALENDAR