BEGIN:VCALENDAR
VERSION:2.0
PRODID:-//Óbudai Egyetem - Bánki Donát Gépész és Biztonságtechnikai Mérnöki Kar - ECPv6.15.12.2//NONSGML v1.0//EN
CALSCALE:GREGORIAN
METHOD:PUBLISH
X-ORIGINAL-URL:https://bgk.uni-obuda.hu
X-WR-CALDESC:Események Óbudai Egyetem - Bánki Donát Gépész és Biztonságtechnikai Mérnöki Kar
REFRESH-INTERVAL;VALUE=DURATION:PT1H
X-Robots-Tag:noindex
X-PUBLISHED-TTL:PT1H
BEGIN:VTIMEZONE
TZID:Europe/Paris
BEGIN:DAYLIGHT
TZOFFSETFROM:+0100
TZOFFSETTO:+0200
TZNAME:CEST
DTSTART:20250330T010000
END:DAYLIGHT
BEGIN:STANDARD
TZOFFSETFROM:+0200
TZOFFSETTO:+0100
TZNAME:CET
DTSTART:20251026T010000
END:STANDARD
BEGIN:DAYLIGHT
TZOFFSETFROM:+0100
TZOFFSETTO:+0200
TZNAME:CEST
DTSTART:20260329T010000
END:DAYLIGHT
BEGIN:STANDARD
TZOFFSETFROM:+0200
TZOFFSETTO:+0100
TZNAME:CET
DTSTART:20261025T010000
END:STANDARD
BEGIN:DAYLIGHT
TZOFFSETFROM:+0100
TZOFFSETTO:+0200
TZNAME:CEST
DTSTART:20270328T010000
END:DAYLIGHT
BEGIN:STANDARD
TZOFFSETFROM:+0200
TZOFFSETTO:+0100
TZNAME:CET
DTSTART:20271031T010000
END:STANDARD
END:VTIMEZONE
BEGIN:VEVENT
DTSTART;TZID=Europe/Paris:20260317T111500
DTEND;TZID=Europe/Paris:20260317T143000
DTSTAMP:20260421T130820
CREATED:20260224T120654Z
LAST-MODIFIED:20260224T120654Z
UID:21719-1773746100-1773757800@bgk.uni-obuda.hu
SUMMARY:DR. FARKAS FERENC habilitációs eljárása | Habilitation Procedure
DESCRIPTION:A Biztonságtudományi Doktori Iskola és a Műszaki és Természettudományági Doktori és Habilitációs Tanács tisztelettel meghívja Önt és munkatársait \n  \nDR. FARKAS FERENC \negyetemi docens habilitációs eljárására. \nSzakmai vita: „Biohajtóanyagok komplex vizsgálata a klímatudatosság jegyében” \nidőpontja: 2026. március 17. (kedd) 11:15 óra \nTantermi előadás: „Li-ion akkumulátorok vizsgálata (tűzveszélyesek?)” \n„Examination of Li-ion batteries (are they flammable?)”” \n  \nidőpontja: 2026. március 17. (kedd) 12:30 óra \nAz eljárás helyszíne: Óbudai Egyetem – Bánki Donát Gépész és Biztonságtechnikai Mérnöki Kar\, 1088 Budapest\, József körút 6. – II. emelet – Konferenciaterem (J200) \n  \nSzakmai Bíráló Bizottság: \nelnök: Prof. Dr. Rajnai Zoltán egyetemi tanár (ÓE) \ntitkár: Dr. habil. Molnár Ildikó egyetemi docens (ÓE) \ntagok: Prof. Dr. Lakatos István egyetemi tanár (SZE) \nProf. Dr. Kiss Péter egyetemi tanár (MATE) \nProf. Em. Dr. Berek Lajos professor emeritus (ÓE) \nProf. Dr. Horváth Béla egyetemi tanár (ELTE) \n  \nTervezett program: \n11\,00 – 11\,15: Szakmai Bíráló Bizottság zárt ülése \n11\,15 – 12\,00: Szakmai vita \n12\,00 – 12\,15: Szakmai Bíráló Bizottság zárt ülése \n12\,15 – 12\,30: SZÜNET \n12\,30 – 13\,15: Tantermi habilitációs előadás \n13\,15 – 13\,30: Szakmai Bíráló Bizottság (SZB) zárt ülése \n  \nMTMT azonosító: 10011160 \n  \n\n  \nThe Doctoral School on Safety and Security Sciences and the Doctoral and Habilitation Council for Engineering and Natural Sciences of Óbuda University cordially invite you and your colleagues to the habilitation procedure of Dr. Ferenc FARKAS\, Associate Professor. \nScientific lecture: „Biohajtóanyagok komplex vizsgálata a klímatudatosság jegyében” \n„A Comprehensive Study of Biofuels in the Framework of Climate Consciousness” \n  \nDate and time: Tuesday\, 17 March 2026\, 11:15 a.m. \n  \nClassroom lecture: „Li-ion akkumulátorok vizsgálata (tűzveszélyesek?)” \n„Examination of Li-ion batteries (are they flammable?)”” \nDate and time: Tuesday\, 17 March 2026\, 12:30 p.m. \nVenue: Óbuda University – Bánki Donát Faculty of Mechanical and Safety Engineering \n1088 Budapest\, József körút 6. – 2nd floor\, – Conference Hall (J200) \n  \nHabilitation Evaluation Committee: \nChair: Prof. Dr. Zoltán RAJNAI\, Full Professor\, Óbuda University Secretary: Dr. habil. Ildikó MOLNÁR\, Associate Professor\, Óbuda University Members: Prof. Dr. István LAKATOS\, Full Professor; University of Szeged \nProf. Dr. Péter KISS\, Full Professor; Hungarian University of Agriculture and Life Sciences \nProf. Em. Dr. Lajos BEREK\, Professor Emeritus; Óbuda University \nProf. Dr. Béla HORVÁTH\, Full Professor; Eötvös Lóránd University \n  \nPlanned Programme: \n11\,00 – 11\,15 Closed Session of the Habilitation Evaluation Committee \n11\,15 – 12\,00 Scientific Lecture \n12\,00 – 12\,15 Closed Session of the Habilitation Evaluation Committee \n12\,15 – 12\,30 Break \n12\,30 – 13\,15 Classroom (Teaching) Lecture \n13\,15 – 13\,30 Closed Session of the Habilitation Evaluation Committee \n  \nMTMT ID: 10011160
URL:https://bgk.uni-obuda.hu/event/dr-farkas-ferenc-habilitacios-eljarasa-habilitation-procedure/
LOCATION:ÓE BGK – 1088 Budapest\, József körút 6. J.200 konferenciaterem\, József körút 6.\, Budapest\, 1088\, Magyarország
ATTACH;FMTTYPE=image/jpeg:https://bgk.uni-obuda.hu/wp-content/uploads/2025/06/doctoral-school-event-2025-1.jpg
END:VEVENT
END:VCALENDAR