BEGIN:VCALENDAR
VERSION:2.0
PRODID:-//Óbudai Egyetem - Bánki Donát Gépész és Biztonságtechnikai Mérnöki Kar - ECPv6.15.12.2//NONSGML v1.0//EN
CALSCALE:GREGORIAN
METHOD:PUBLISH
X-WR-CALNAME:Óbudai Egyetem - Bánki Donát Gépész és Biztonságtechnikai Mérnöki Kar
X-ORIGINAL-URL:https://bgk.uni-obuda.hu
X-WR-CALDESC:Események Óbudai Egyetem - Bánki Donát Gépész és Biztonságtechnikai Mérnöki Kar
REFRESH-INTERVAL;VALUE=DURATION:PT1H
X-Robots-Tag:noindex
X-PUBLISHED-TTL:PT1H
BEGIN:VTIMEZONE
TZID:Europe/Paris
BEGIN:DAYLIGHT
TZOFFSETFROM:+0100
TZOFFSETTO:+0200
TZNAME:CEST
DTSTART:20250330T010000
END:DAYLIGHT
BEGIN:STANDARD
TZOFFSETFROM:+0200
TZOFFSETTO:+0100
TZNAME:CET
DTSTART:20251026T010000
END:STANDARD
BEGIN:DAYLIGHT
TZOFFSETFROM:+0100
TZOFFSETTO:+0200
TZNAME:CEST
DTSTART:20260329T010000
END:DAYLIGHT
BEGIN:STANDARD
TZOFFSETFROM:+0200
TZOFFSETTO:+0100
TZNAME:CET
DTSTART:20261025T010000
END:STANDARD
BEGIN:DAYLIGHT
TZOFFSETFROM:+0100
TZOFFSETTO:+0200
TZNAME:CEST
DTSTART:20270328T010000
END:DAYLIGHT
BEGIN:STANDARD
TZOFFSETFROM:+0200
TZOFFSETTO:+0100
TZNAME:CET
DTSTART:20271031T010000
END:STANDARD
END:VTIMEZONE
BEGIN:VEVENT
DTSTART;TZID=Europe/Paris:20260330T101500
DTEND;TZID=Europe/Paris:20260330T123000
DTSTAMP:20260421T115121
CREATED:20260310T063432Z
LAST-MODIFIED:20260310T063432Z
UID:21839-1774865700-1774873800@bgk.uni-obuda.hu
SUMMARY:KERTÉSZ JÓZSEF doktori értekezésének nyilvános vitája | Public Defense of the Doctoral Dissertation
DESCRIPTION:A Biztonságtudományi Doktori Iskola és a Műszaki és Természettudományági Doktori és Habilitációs Tanács tisztelettel meghívja Önt KERTÉSZ JÓZSEF doktori értekezésének nyilvános vitájára. \n  \nTémavezető: Prof. Dr. Kovács Tünde Anna \nAz értekezés címe: Gépjárművek ütközésbiztonságának fokozása konstrukciós megoldással \nA védés időpontja: 2026. március 30. (hétfő) 10:15 óra \nA védés helyszíne: Óbudai Egyetem – Bánki Donát Gépész és Biztonságtechnikai Mérnöki Kar \n1088 Budapest\, József körút 6. – II. emelet Konferenciaterem (J200) \n  \nA Bíráló Bizottság tagjai és tisztségeik: \nElnök: Prof. Dr. Réger Mihály egyetemi tanár; Óbudai Egyetem \nTitkár: Dr. Lukács Judit adjunktus; Óbudai Egyetem \nTagok: Dr. Kuzsella László egyetemi docens; Miskolci Egyetem \nDr. habil. Daruka Norbert osztályvezető; MH TP osztályvezető \nDr. Gyura László igazgató; Magyar Hegesztéstechnikai és Anyagvizsgálati Egyesülés \nBírálók: Dr. habil. Gonda Viktor egyetemi docens; Óbudai Egyetem \nProf. Dr. Czinege Imre egyetemi tanár; Széchenyi István Egyetem \n\nThe Doctoral School on Safety and Security Sciences and the Doctoral and Habilitation Council for Engineering and Natural Sciences of Óbuda University cordially invite you to the public defense of the doctoral dissertation of József KERTÉSZ. \nSupervisor: Prof. Dr. Tünde Anna KOVÁCS \nTitle of the dissertation: Gépjárművek ütközésbiztonságának fokozása konstrukciós megoldással – Improving vehicle collision safety through design solutions \nDate of the defense: 30 March 2026 (Monday)\, 10:15 a.m. \nVenue: Óbuda University – Bánki Donát Faculty of Mechanical and Safety Engineering \n1088 Budapest\, József körút 6.\, 2nd floor\, Conference Hall (J200) \n  \nThe language of the procedure is Hungarian. \nMembers of the Evaluation Committee: \nChair: Prof. Dr. Mihály RÉGER\, Full Professor\, Óbuda University \nSecretary: Dr. Judit LUKÁCS\, Assistant Professor; Óbuda University \nMembers: Dr. László KUZSELLA\, Associate Professor; University of Mickolc \nDr. habil. Norbert DARUKA branch head; HDF Transformation Command – Scientific Research Center \nDr. László GYURA President\, Hungarian Association of Welding Technology and Materials Testing \nReviewers: Prof. Dr. Imre CZINEGE\, Full Professor; University of Győr \nDr. habil. Viktor GONDA\, Assistant Professor; Óbuda University
URL:https://bgk.uni-obuda.hu/event/kertesz-jozsef-doktori-ertekezesenek-nyilvanos-vitaja-public-defense-of-the-doctoral-dissertation/
LOCATION:ÓE BGK – 1088 Budapest\, József körút 6. J.200 konferenciaterem\, József körút 6.\, Budapest\, 1088\, Magyarország
ATTACH;FMTTYPE=image/jpeg:https://bgk.uni-obuda.hu/wp-content/uploads/2025/06/doctoral-school-event-2025-1.jpg
END:VEVENT
END:VCALENDAR