BEGIN:VCALENDAR
VERSION:2.0
PRODID:-//Óbudai Egyetem - Bánki Donát Gépész és Biztonságtechnikai Mérnöki Kar - ECPv6.15.12.2//NONSGML v1.0//EN
CALSCALE:GREGORIAN
METHOD:PUBLISH
X-ORIGINAL-URL:https://bgk.uni-obuda.hu
X-WR-CALDESC:Események Óbudai Egyetem - Bánki Donát Gépész és Biztonságtechnikai Mérnöki Kar
REFRESH-INTERVAL;VALUE=DURATION:PT1H
X-Robots-Tag:noindex
X-PUBLISHED-TTL:PT1H
BEGIN:VTIMEZONE
TZID:UTC
BEGIN:STANDARD
TZOFFSETFROM:+0000
TZOFFSETTO:+0000
TZNAME:UTC
DTSTART:20230101T000000
END:STANDARD
END:VTIMEZONE
BEGIN:VEVENT
DTSTART;TZID=UTC:20240305T094500
DTEND;TZID=UTC:20240305T110000
DTSTAMP:20260423T024356
CREATED:20240221T143140Z
LAST-MODIFIED:20240221T143140Z
UID:18154-1709631900-1709636400@bgk.uni-obuda.hu
SUMMARY:Juhász László doktori értekezésének nyilvános vitája
DESCRIPTION:Értekezés címe: A Karbantartás 4.0 helyzetének elemzése a hazai járműiparban \nTémavezető: Prof. Dr. Pokorádi László \nIdőpont: 2024. március 5. kedd 9:45 óra \nHelyszín: Óbudai Egyetem – Bánki Donát Gépész és Biztonságtechnikai Mérnöki Kar – 1081 Budapest\, Népszínház u. 8. – Tanácsterem (fszt. 45)
URL:https://bgk.uni-obuda.hu/event/juhasz-laszlo-doktori-ertekezesenek-nyilvanos-vitaja/
LOCATION:ÓE BGK – 1081 Budapest\, Népszínház utca 8.
ATTACH;FMTTYPE=image/jpeg:https://bgk.uni-obuda.hu/wp-content/uploads/2023/03/doctoral-event-2023-main-image.jpg
END:VEVENT
BEGIN:VEVENT
DTSTART;TZID=UTC:20240306T090000
DTEND;TZID=UTC:20240306T140000
DTSTAMP:20260423T024356
CREATED:20240207T105830Z
LAST-MODIFIED:20240207T105830Z
UID:18151-1709715600-1709733600@bgk.uni-obuda.hu
SUMMARY:Ipari Fórum | „Az Ipar és a Felsőoktatás kapcsolódási lehetőségei”
DESCRIPTION:Az Óbudai Egyetem Bánki Donát Gépész és Biztonságtechnikai Mérnöki Kar vezetésének eltökélt szándéka\, hogy megerősítse az Ipari jelenlétet a Kar Oktatási\, Kutatás-Fejlesztési és Pályázati tevékenységében\, így biztosítva hallgatóink naprakész tudását\, illetve az ipar szereplőivel közös pályázatokon vehessünk részt\, továbbá innovatív projekteket valósíthassunk meg. \nEnnek elősegítése érdekében: \n„Az Ipar és a Felsőoktatás kapcsolódási lehetőségei” \ncímmel Fórumot szervezünk. \nIdőpont: 2024. március 06. (szerda) 09:00 – 14:00 \nHelyszín: ÓE BGK 1084 Budapest\, József körút 6. (J. 200. Díszterem)
URL:https://bgk.uni-obuda.hu/event/ipari-forum-az-ipar-es-a-felsooktatas-kapcsolodasi-lehetosegei/
LOCATION:ÓE BGK – 1081 Budapest\, Népszínház utca 8.
ATTACH;FMTTYPE=image/jpeg:https://bgk.uni-obuda.hu/wp-content/uploads/2024/02/ipari-forum-2024-main-image-v2.jpg
END:VEVENT
BEGIN:VEVENT
DTSTART;TZID=UTC:20240306T090000
DTEND;TZID=UTC:20240306T160000
DTSTAMP:20260423T024356
CREATED:20240304T095513Z
LAST-MODIFIED:20240304T095513Z
UID:18158-1709715600-1709740800@bgk.uni-obuda.hu
SUMMARY:32. Óbudai Egyetem Állásbörze a Tavaszmező utcai campuson
DESCRIPTION:Gyere és találd meg a legjobb gyakornoki helyet! A 2024. tavaszi állásbörzén továbbra is 3 napon át\, 3 helyszínen várjuk az érdeklődőket: március 5-én kedden Óbudán\, a Bécsi út 96/B épületében\, 2024. március 6-án szerdán Józsefvárosban\, a Tavaszmező utca 14-18. G épületében\, valamint 2024. március 12-én kedden Székesfehérváron. \n\n\n\nHELYSZÍN\n\n\n\n\n\n\n1084\, Budapest\, Tavaszmező utca 14-18.\n\n\n\n\n\n\nHELYISÉG\n\n\n\n\n\n\nG épület\, földszint\, alagsor\n\n\n\n\n\n\nFELTÉTELEK\n\n\n\n\n\n\ndíjmentes
URL:https://bgk.uni-obuda.hu/event/32-obudai-egyetem-allasborze-a-tavaszmezo-utcai-campuson/
ATTACH;FMTTYPE=image/jpeg:https://bgk.uni-obuda.hu/wp-content/uploads/2024/03/allasborze-20240306-main-image.jpg
END:VEVENT
BEGIN:VEVENT
DTSTART;TZID=UTC:20240307T100000
DTEND;TZID=UTC:20240307T120000
DTSTAMP:20260423T024356
CREATED:20240226T072530Z
LAST-MODIFIED:20240226T072530Z
UID:18155-1709805600-1709812800@bgk.uni-obuda.hu
SUMMARY:Sándor Barnabás műhelyvitája
DESCRIPTION:Értekezéstervezet címe: Okos épületek kiberbiztonsági intézkedéseinek vizsgálata \nTémavezető: Prof. Dr. Rajnai Zoltán \nIdőpont: 2024. március 7. csütörtök 10:00 óra \nHelyszín: Óbudai Egyetem – Bánki Donát Gépész és Biztonságtechnikai Mérnöki Kar – 1081 Budapest\, Népszínház u. 8. – Tanácsterem (fszt. 45) \n 
URL:https://bgk.uni-obuda.hu/event/sandor-barnabas-muhelyvitaja/
LOCATION:ÓE BGK – 1081 Budapest\, Népszínház utca 8.
ATTACH;FMTTYPE=image/jpeg:https://bgk.uni-obuda.hu/wp-content/uploads/2023/03/doctoral-event-2023-main-image.jpg
END:VEVENT
BEGIN:VEVENT
DTSTART;TZID=UTC:20240312T100000
DTEND;TZID=UTC:20240312T113000
DTSTAMP:20260423T024356
CREATED:20240306T123609Z
LAST-MODIFIED:20240306T123609Z
UID:18159-1710237600-1710243000@bgk.uni-obuda.hu
SUMMARY:Viktor Patrik műhelyvitája
DESCRIPTION:Értekezéstervezet címe: A VEZETÉS BIZTONSÁGÁNAK FEJLESZTÉSE: AZ ÖNVEZETŐ TECHNOLÓGIA GAZDASÁGI ASPEKTUSA\nTémavezető: Dr. habil. Garai-Fodor Mónika\nIdőpont: 2024. március 12. kedd 10:00 óra\nHelyszín: Óbudai Egyetem – Bánki Donát Gépész és Biztonságtechnikai Mérnöki Kar – 1081 Budapest\, Népszínház u. 8. – Tanácsterem (fszt. 45)
URL:https://bgk.uni-obuda.hu/event/viktor-patrik-muhelyvitaja/
LOCATION:ÓE BGK – 1081 Budapest\, Népszínház utca 8.
ATTACH;FMTTYPE=image/jpeg:https://bgk.uni-obuda.hu/wp-content/uploads/2023/03/doctoral-event-2023-main-image.jpg
END:VEVENT
BEGIN:VEVENT
DTSTART;TZID=UTC:20240319T140000
DTEND;TZID=UTC:20240319T153000
DTSTAMP:20260423T024356
CREATED:20240318T075619Z
LAST-MODIFIED:20240318T075619Z
UID:18162-1710856800-1710862200@bgk.uni-obuda.hu
SUMMARY:Generációs hídépítés – Utak és módszerek az egyetemi hallgatók hatékonyabb megközelítéséhez
DESCRIPTION:A Bánki Karon – annak érdekében\, hogy az egyetemi hallgatókat\, a fiatalok generációját jobban lehessen érteni\, s ezáltal az oktatás még zökkenőmentesebb legyen – előadást szervezünk Generációs hídépítés – Utak és módszerek az egyetemi hallgatók hatékonyabb megközelítéséhez címmel. \nAz előadó Steigervald Krisztián generációkutató. \nOktatókat\, és minden érdeklődőt várunk szeretettel! \nAz előadás látogatása regisztrációhoz kötött\, ezért kérjük\, hogy a lenti űrlapon legyetek kedvesek jelezni részvételi szándékotokat 2024. március 15-ig. \nKezdési időpont: 2024. március 19. 14.00 \nHelyszín: J200-as terem \nIdőtartama: 1\,5 óra
URL:https://bgk.uni-obuda.hu/event/generacios-hidepites-utak-es-modszerek-az-egyetemi-hallgatok-hatekonyabb-megkozelitesehez/
LOCATION:ÓE BGK – 1081 Budapest\, Népszínház utca 8.
ATTACH;FMTTYPE=image/jpeg:https://bgk.uni-obuda.hu/wp-content/uploads/2024/03/generacios-eloadas-main-image.jpg
END:VEVENT
BEGIN:VEVENT
DTSTART;TZID=UTC:20240320T170000
DTEND;TZID=UTC:20240320T183000
DTSTAMP:20260423T024356
CREATED:20240308T100000Z
LAST-MODIFIED:20240308T100000Z
UID:18160-1710954000-1710959400@bgk.uni-obuda.hu
SUMMARY:A mesterséges intelligencia Stanisław Lem életművében - Dr. Szabó Lajos előadása
DESCRIPTION:Időpont: 2024.03.20. 17:00-tól \nHelyszín: Fszt. 45 Tanácsterem
URL:https://bgk.uni-obuda.hu/event/a-mesterseges-intelligencia-stanislaw-lem-eletmuveben-dr-szabo-lajos-eloadasa/
LOCATION:ÓE BGK – 1081 Budapest\, Népszínház utca 8.
ATTACH;FMTTYPE=image/jpeg:https://bgk.uni-obuda.hu/wp-content/uploads/2024/03/A-mesterseges-intelligencia-Stanislaw-Lem-eletmuveben-eloadas-main-image.jpg
END:VEVENT
BEGIN:VEVENT
DTSTART;TZID=UTC:20240322T080000
DTEND;TZID=UTC:20240324T180000
DTSTAMP:20260423T024356
CREATED:20240321T074519Z
LAST-MODIFIED:20240321T074519Z
UID:18163-1711094400-1711303200@bgk.uni-obuda.hu
SUMMARY:Veterángépjármű-restaurátor képzés: Találkozz velünk az AMTS-en!
DESCRIPTION:Találkozz a Veterángépjármű-restaurátor képzésünk oktatóival\, hallgatóival és munkáikkal a holnap kezdődő UNIX-AMTS Auto\, Motor & Tuning Show 2024-en! \nHelyszín: Hungexpo (Budapest X.\, Albertirsai út 10.) \nIdőpont: március 22-23. 09:00-19:00; március 24. 09:00-18:00 \nInformációk és jegyvásárlás: https://www.amts.hu/hu/
URL:https://bgk.uni-obuda.hu/event/veterangepjarmu-restaurator-kepzes-talalkozz-velunk-az-amts-en/
LOCATION:Hungexpo 1101 Albertirsai út 10.\, Albertirsai út 10.\, Budapest\, 1101\, Magyarország
ATTACH;FMTTYPE=image/jpeg:https://bgk.uni-obuda.hu/wp-content/uploads/2024/03/OE-BGK-Veteran-kepzes-2024-flyer-main-image.jpg
END:VEVENT
END:VCALENDAR