BEGIN:VCALENDAR
VERSION:2.0
PRODID:-//Óbudai Egyetem - Bánki Donát Gépész és Biztonságtechnikai Mérnöki Kar - ECPv6.15.12.2//NONSGML v1.0//EN
CALSCALE:GREGORIAN
METHOD:PUBLISH
X-ORIGINAL-URL:https://bgk.uni-obuda.hu
X-WR-CALDESC:Események Óbudai Egyetem - Bánki Donát Gépész és Biztonságtechnikai Mérnöki Kar
REFRESH-INTERVAL;VALUE=DURATION:PT1H
X-Robots-Tag:noindex
X-PUBLISHED-TTL:PT1H
BEGIN:VTIMEZONE
TZID:UTC
BEGIN:STANDARD
TZOFFSETFROM:+0000
TZOFFSETTO:+0000
TZNAME:UTC
DTSTART:20230101T000000
END:STANDARD
END:VTIMEZONE
BEGIN:VEVENT
DTSTART;TZID=UTC:20241202T170000
DTEND;TZID=UTC:20241202T183000
DTSTAMP:20260422T121542
CREATED:20241106T124914Z
LAST-MODIFIED:20241106T124914Z
UID:18256-1733158800-1733164200@bgk.uni-obuda.hu
SUMMARY:Mechanika I. felzárkóztató (Mecha első éveseknek)(Online)
DESCRIPTION:ONLINE \nlink: https://bbb2.banki.hu/b/pau-end-3z2-me9
URL:https://bgk.uni-obuda.hu/event/mechanika-i-felzarkoztato-mecha-elso-eveseknek-3/
CATEGORIES:JOK
ATTACH;FMTTYPE=image/jpeg:https://bgk.uni-obuda.hu/wp-content/uploads/2024/10/mechanika-felzarkoztato-event-image.jpg
END:VEVENT
BEGIN:VEVENT
DTSTART;TZID=UTC:20241203T123500
DTEND;TZID=UTC:20241203T140000
DTSTAMP:20260422T121542
CREATED:20241118T162915Z
LAST-MODIFIED:20241118T162915Z
UID:18261-1733229300-1733234400@bgk.uni-obuda.hu
SUMMARY:Fórum II. (BT\, Kiber\, Mecha első évesek) (15 pont)
DESCRIPTION:BT /Kiber / Mechatronika csoportok
URL:https://bgk.uni-obuda.hu/event/forum-i-bt-kiber-mecha-elso-evesek-15-pont-2/
LOCATION:ÓE BGK – 1081 Budapest\, Népszínház utca 8. P.10-es terem
CATEGORIES:JOK
ATTACH;FMTTYPE=image/jpeg:https://bgk.uni-obuda.hu/wp-content/uploads/2024/08/jok-forum-event-image.jpg
END:VEVENT
BEGIN:VEVENT
DTSTART;TZID=UTC:20241203T143000
DTEND;TZID=UTC:20241203T160000
DTSTAMP:20260422T121542
CREATED:20241119T103622Z
LAST-MODIFIED:20241119T103622Z
UID:18263-1733236200-1733241600@bgk.uni-obuda.hu
SUMMARY:Matematika felzárkóztató (BT\, Kiber\, Mecha első éveseknek)
DESCRIPTION:
URL:https://bgk.uni-obuda.hu/event/matematika-felzarkoztato-bt-kiber-mecha-elso-eveseknek-4/
LOCATION:ÓE BGK – 1081 Budapest\, Népszínház utca 8. P.10-es terem
CATEGORIES:JOK
ATTACH;FMTTYPE=image/jpeg:https://bgk.uni-obuda.hu/wp-content/uploads/2024/10/matematika-felzarkoztato-event-image.jpg
END:VEVENT
BEGIN:VEVENT
DTSTART;TZID=UTC:20241204T114000
DTEND;TZID=UTC:20241204T130000
DTSTAMP:20260422T121542
CREATED:20241129T105536Z
LAST-MODIFIED:20241129T105536Z
UID:18268-1733312400-1733317200@bgk.uni-obuda.hu
SUMMARY:“Miben vagyunk jobbak\, mint az AI?” vendégelőadás
DESCRIPTION:“Miben vagyunk jobbak\, mint az AI?” címmel vendégelőadásra kerül sor 2024. december 4-én 11:40-től a Bánki Kar J.200-as dísztermében. \nMinden érdeklődőt szeretettel várunk!
URL:https://bgk.uni-obuda.hu/event/miben-vagyunk-jobbak-mint-az-ai-vendegeloadas-2/
LOCATION:ÓE BGK – 1088 Budapest\, József körút 6. J.200 konferenciaterem\, József körút 6.\, Budapest\, 1088\, Magyarország
ATTACH;FMTTYPE=image/jpeg:https://bgk.uni-obuda.hu/wp-content/uploads/2024/11/miben-vagyunk-jobbak-eloadas-event-image-2.jpg
END:VEVENT
BEGIN:VEVENT
DTSTART;TZID=UTC:20241204T160000
DTEND;TZID=UTC:20241204T180000
DTSTAMP:20260422T121542
CREATED:20241122T102001Z
LAST-MODIFIED:20241122T102001Z
UID:18267-1733328000-1733335200@bgk.uni-obuda.hu
SUMMARY:Szakmai délután az ergonómia képzési és minősítési lehetőségekről
DESCRIPTION:Regisztráció az eseményre: https://bgk.uni-obuda.hu/ergonomia-sz4kma1-delutan-reg/
URL:https://bgk.uni-obuda.hu/event/szakmai-delutan-az-ergonomia-kepzesi-es-minositesi-lehetosegekrol/
LOCATION:ÓE BGK – 1088 Budapest\, József körút 6. J.200 konferenciaterem\, József körút 6.\, Budapest\, 1088\, Magyarország
ATTACH;FMTTYPE=image/jpeg:https://bgk.uni-obuda.hu/wp-content/uploads/2024/11/met-event-image-v2.jpg
END:VEVENT
BEGIN:VEVENT
DTSTART;TZID=UTC:20241205T133000
DTEND;TZID=UTC:20241205T150000
DTSTAMP:20260422T121542
CREATED:20241119T103518Z
LAST-MODIFIED:20241119T103518Z
UID:18262-1733405400-1733410800@bgk.uni-obuda.hu
SUMMARY:Matematika felzárkóztató (Gépész\, Energetika első éveseknek)
DESCRIPTION:
URL:https://bgk.uni-obuda.hu/event/matematika-felzarkoztato-gepesz-energetika-elso-eveseknek-4/
LOCATION:ÓE BGK – 1081 Budapest\, Népszínház utca 8. P.10-es terem
CATEGORIES:JOK
ATTACH;FMTTYPE=image/jpeg:https://bgk.uni-obuda.hu/wp-content/uploads/2024/10/matematika-felzarkoztato-event-image.jpg
END:VEVENT
BEGIN:VEVENT
DTSTART;TZID=UTC:20241206T101500
DTEND;TZID=UTC:20241206T120000
DTSTAMP:20260422T121542
CREATED:20241119T105305Z
LAST-MODIFIED:20241119T105305Z
UID:18264-1733480100-1733486400@bgk.uni-obuda.hu
SUMMARY:Sinkó Gábor doktori értekezésének nyilvános vitája
DESCRIPTION:Értekezés címe: Afrikai terrorszervezetek internethasználata: Az al-Shabaab tevékenységeinek és képességeinek vizsgálata a harc- és kibertérben \nTémavezető: Prof. Dr. Besenyő János \nIdőpont: 2024. december 6. péntek 10:15 óra \nHelyszín: Óbudai Egyetem – Bánki Donát Gépész és Biztonságtechnikai Mérnöki Kar – 1088 Budapest\, József körút 6. – Konferenciaterem (J200)
URL:https://bgk.uni-obuda.hu/event/sinko-gabor-doktori-ertekezesenek-nyilvanos-vitaja/
LOCATION:ÓE BGK – 1088 Budapest\, József körút 6. J.200 konferenciaterem\, József körút 6.\, Budapest\, 1088\, Magyarország
ATTACH;FMTTYPE=image/jpeg:https://bgk.uni-obuda.hu/wp-content/uploads/2023/03/doctoral-event-2023-main-image.jpg
END:VEVENT
BEGIN:VEVENT
DTSTART;TZID=UTC:20241210T123500
DTEND;TZID=UTC:20241210T140000
DTSTAMP:20260422T121542
CREATED:20241204T093143Z
LAST-MODIFIED:20241204T093143Z
UID:18270-1733834100-1733839200@bgk.uni-obuda.hu
SUMMARY:Matematika felzárkóztató (BT\, Kiber\, Mecha első éveseknek)
DESCRIPTION:
URL:https://bgk.uni-obuda.hu/event/matematika-felzarkoztato-bt-kiber-mecha-elso-eveseknek-5/
LOCATION:ÓE BGK – 1081 Budapest\, Népszínház utca 8. P.10-es terem
CATEGORIES:JOK
ATTACH;FMTTYPE=image/jpeg:https://bgk.uni-obuda.hu/wp-content/uploads/2024/10/matematika-felzarkoztato-event-image.jpg
END:VEVENT
BEGIN:VEVENT
DTSTART;TZID=UTC:20241211T101500
DTEND;TZID=UTC:20241211T120000
DTSTAMP:20260422T121542
CREATED:20241119T105356Z
LAST-MODIFIED:20241119T105356Z
UID:18265-1733912100-1733918400@bgk.uni-obuda.hu
SUMMARY:Novák János doktori értekezésének nyilvános vitája
DESCRIPTION:Értekezés címe: A kulturális tőke biztonságtudatosságra gyakorolt moderáló hatása \nTémavezető: Prof. Dr. Pokorádi László \nIdőpont: 2024. december 11. szerda 10:15 óra \nHelyszín: Óbudai Egyetem – Bánki Donát Gépész és Biztonságtechnikai Mérnöki Kar – 1088 Budapest\, József körút 6. – Konferenciaterem (J200)
URL:https://bgk.uni-obuda.hu/event/novak-janos-doktori-ertekezesenek-nyilvanos-vitaja/
LOCATION:ÓE BGK – 1088 Budapest\, József körút 6. J.200 konferenciaterem\, József körút 6.\, Budapest\, 1088\, Magyarország
ATTACH;FMTTYPE=image/jpeg:https://bgk.uni-obuda.hu/wp-content/uploads/2023/03/doctoral-event-2023-main-image.jpg
END:VEVENT
BEGIN:VEVENT
DTSTART;TZID=UTC:20241212T123500
DTEND;TZID=UTC:20241212T140000
DTSTAMP:20260422T121542
CREATED:20241204T093046Z
LAST-MODIFIED:20241204T093046Z
UID:18269-1734006900-1734012000@bgk.uni-obuda.hu
SUMMARY:Matematika felzárkóztató (Gépész\, Energetika első éveseknek)
DESCRIPTION:
URL:https://bgk.uni-obuda.hu/event/matematika-felzarkoztato-gepesz-energetika-elso-eveseknek-5/
LOCATION:ÓE BGK – 1081 Budapest\, Népszínház utca 8. J.116. terem\, Népszínház utca 8.\, Budapest\, 1081\, Magyarország
CATEGORIES:JOK
ATTACH;FMTTYPE=image/jpeg:https://bgk.uni-obuda.hu/wp-content/uploads/2024/10/matematika-felzarkoztato-event-image.jpg
END:VEVENT
BEGIN:VEVENT
DTSTART;TZID=UTC:20241213T100000
DTEND;TZID=UTC:20241213T140000
DTSTAMP:20260422T121542
CREATED:20241211T063719Z
LAST-MODIFIED:20241211T063719Z
UID:18273-1734084000-1734098400@bgk.uni-obuda.hu
SUMMARY:Nyílt Nap a Bánkin
DESCRIPTION:
URL:https://bgk.uni-obuda.hu/event/nyilt-nap-a-bankin-4/
LOCATION:ÓE BGK – 1081 Budapest\, Népszínház utca 8. P.10-es terem
ATTACH;FMTTYPE=image/jpeg:https://bgk.uni-obuda.hu/wp-content/uploads/2024/12/nyilt-napok-2024-event-image.jpg
END:VEVENT
END:VCALENDAR