BEGIN:VCALENDAR
VERSION:2.0
PRODID:-//Óbudai Egyetem - Bánki Donát Gépész és Biztonságtechnikai Mérnöki Kar - ECPv6.15.12.2//NONSGML v1.0//EN
CALSCALE:GREGORIAN
METHOD:PUBLISH
X-ORIGINAL-URL:https://bgk.uni-obuda.hu
X-WR-CALDESC:Események Óbudai Egyetem - Bánki Donát Gépész és Biztonságtechnikai Mérnöki Kar
REFRESH-INTERVAL;VALUE=DURATION:PT1H
X-Robots-Tag:noindex
X-PUBLISHED-TTL:PT1H
BEGIN:VTIMEZONE
TZID:UTC
BEGIN:STANDARD
TZOFFSETFROM:+0000
TZOFFSETTO:+0000
TZNAME:UTC
DTSTART:20240101T000000
END:STANDARD
END:VTIMEZONE
BEGIN:VEVENT
DTSTART;TZID=UTC:20250607T100000
DTEND;TZID=UTC:20250607T140000
DTSTAMP:20260422T024451
CREATED:20250603T150805Z
LAST-MODIFIED:20250603T150805Z
UID:19136-1749290400-1749304800@bgk.uni-obuda.hu
SUMMARY:Bánki Gyereknap 2025
DESCRIPTION:
URL:https://bgk.uni-obuda.hu/event/banki-gyereknap-2025/
LOCATION:ÓE BGK – 1081 Budapest\, Népszínház utca 8.
ATTACH;FMTTYPE=image/jpeg:https://bgk.uni-obuda.hu/wp-content/uploads/2025/06/banki-gyereknap-2025-event-image.jpg
END:VEVENT
BEGIN:VEVENT
DTSTART;TZID=UTC:20250610T093000
DTEND;TZID=UTC:20250610T110000
DTSTAMP:20260422T024451
CREATED:20250603T151113Z
LAST-MODIFIED:20250603T151113Z
UID:19140-1749547800-1749553200@bgk.uni-obuda.hu
SUMMARY:Bánki Pedagógusnap 2025
DESCRIPTION:
URL:https://bgk.uni-obuda.hu/event/banki-pedagogusnap-2025/
LOCATION:ÓE BGK – 1139 Budapest\, Frangepán utca 50.\, Frangepán utca 50.\, Budapest\, 1139
ATTACH;FMTTYPE=image/jpeg:https://bgk.uni-obuda.hu/wp-content/uploads/2025/06/ped-nap-banki-2025-JPEG-main-image.jpg
END:VEVENT
BEGIN:VEVENT
DTSTART;TZID=UTC:20250611T100000
DTEND;TZID=UTC:20250611T130000
DTSTAMP:20260422T024451
CREATED:20250410T044136Z
LAST-MODIFIED:20250410T044136Z
UID:18794-1749636000-1749646800@bgk.uni-obuda.hu
SUMMARY:IHAB ABDULRAHMAN SATAM műhelyvitája / home defense
DESCRIPTION:Értekezéstervezet címe: Innovative Brain-Computer Interface Systems: Robotics Control through EEG Signals \nTémavezető: Prof. Dr. Szabolcsi Róbert \nIdőpont: 2025. június 11. szerda 10:00 óra \nHelyszín: Óbudai Egyetem – Bánki Donát Gépész és Biztonságtechnikai  Mérnöki Kar – 1088 Budapest\, József körút 6. II. emelet – Konferenciaterem (J200/1) \nAz eljárás nyelve: angol \n*** \nTitle of the Thesis Proposal: Innovative Brain-Computer Interface Systems: Robotics Control through EEG Signals \nSupervisor: Prof. Dr. Róbert SZABOLCSI \nDate: Wednesday 11th June 2025\, at 10:00 AM. \nVenue: Obuda University – Bánki Donát Faculty of Mechanical and Safety Engineering – 1088 Budapest\, József körút 6. – II. floor – room J200/1 \nLanguage of the proceeding: English
URL:https://bgk.uni-obuda.hu/event/ihab-abdulrahman-satam-muhelyvitaja-home-defense/
LOCATION:ÓE BGK – 1088 Budapest\, József körút 6. J.200 konferenciaterem\, József körút 6.\, Budapest\, 1088\, Magyarország
ATTACH;FMTTYPE=image/jpeg:https://bgk.uni-obuda.hu/wp-content/uploads/2023/03/doctoral-event-2023-main-image.jpg
END:VEVENT
BEGIN:VEVENT
DTSTART;VALUE=DATE:20250616
DTEND;VALUE=DATE:20250621
DTSTAMP:20260422T024451
CREATED:20250612T072520Z
LAST-MODIFIED:20250612T072520Z
UID:19227-1750032000-1750463999@bgk.uni-obuda.hu
SUMMARY:Python-tábor középiskolások részére
DESCRIPTION:Bevezetés a Python programozási nyelvbe \n20 órás programozás kurzus középiskolások részére az Óbudai Egyetem Biztonságtudományi Szakkollégiumának szervezésében. \nIdőpont: 2025.június 16-20. | 16:30-19:30 között.\nHelyszín: Óbudai Egyetem\, 1088 Budapest\, József krt. 6. J.316-os terem. \nMax. létszám 20 fő \nAz első 20 jelentkező számára tudunk csak helyet biztosítani! \nA részvételi szándékot kérjük e-mail-ben jelezze Dr. Kiss Gábornál a kiss.gabor@bgk.uni-obuda.hu címen!
URL:https://bgk.uni-obuda.hu/event/python-tabor-kozepiskolasok-reszere/
LOCATION:ÓE BGK  – 1081 Budapest Népszínház utca 8. J.316\, Budapest\, 1081\, Magyarország
ATTACH;FMTTYPE=image/jpeg:https://bgk.uni-obuda.hu/wp-content/uploads/2025/06/Python-tabor-2025-event-image.jpg
END:VEVENT
BEGIN:VEVENT
DTSTART;TZID=UTC:20250616T090000
DTEND;TZID=UTC:20250616T110000
DTSTAMP:20260422T024451
CREATED:20250604T042928Z
LAST-MODIFIED:20250604T043050Z
UID:19154-1750064400-1750071600@bgk.uni-obuda.hu
SUMMARY:KOVÁCS ATTILA MÁTÉ műhelyvitája
DESCRIPTION:Értekezéstervezet címe: Kritikus infrastruktúrák kiberfenyegetéseinek mintázatai\, elemzése és előrejelzése\nTémavezető: Prof. Dr. Rajnai Zoltán\nIdőpont: 2025. június 16. hétfő 9:00 óra\nHelyszín: Óbudai Egyetem – Bánki Donát Gépész és Biztonságtechnikai  Mérnöki Kar – 1088 Budapest\, József körút 6. II. emelet – Konferenciaterem (J200)
URL:https://bgk.uni-obuda.hu/event/kovacs-attila-mate-muhelyvitaja/
LOCATION:ÓE BGK – 1088 Budapest\, József körút 6. J.200 konferenciaterem\, József körút 6.\, Budapest\, 1088\, Magyarország
ATTACH;FMTTYPE=image/jpeg:https://bgk.uni-obuda.hu/wp-content/uploads/2023/03/doctoral-event-2023-main-image.jpg
END:VEVENT
BEGIN:VEVENT
DTSTART;TZID=UTC:20250616T110000
DTEND;TZID=UTC:20250616T130000
DTSTAMP:20260422T024451
CREATED:20250604T043038Z
LAST-MODIFIED:20250604T043038Z
UID:19156-1750071600-1750078800@bgk.uni-obuda.hu
SUMMARY:BAK DORINA GERDA műhelyvitája
DESCRIPTION:Értekezéstervezet címe: A felhőhasználat információbiztonsági aspektusai a kkv-knál\nTémavezető: Dr. habil. Reicher Regina Zsuzsánna\nIdőpont: 2025. június 16. hétfő 11:00 óra\nHelyszín: Óbudai Egyetem – Bánki Donát Gépész és Biztonságtechnikai  Mérnöki Kar – 1088 Budapest\, József körút 6. II. emelet – Konferenciaterem (J200)
URL:https://bgk.uni-obuda.hu/event/bak-dorina-gerda-muhelyvitaja/
LOCATION:ÓE BGK – 1088 Budapest\, József körút 6. J.200 konferenciaterem\, József körút 6.\, Budapest\, 1088\, Magyarország
ATTACH;FMTTYPE=image/jpeg:https://bgk.uni-obuda.hu/wp-content/uploads/2023/03/doctoral-event-2023-main-image.jpg
END:VEVENT
BEGIN:VEVENT
DTSTART;TZID=UTC:20250620T100000
DTEND;TZID=UTC:20250620T130000
DTSTAMP:20260422T024451
CREATED:20250612T055429Z
LAST-MODIFIED:20250612T055429Z
UID:19210-1750413600-1750424400@bgk.uni-obuda.hu
SUMMARY:AI-kóstoló – ízelítő az MI lehetőségeiből az oktatásban
DESCRIPTION:Érdekel\, hogyan segíthet az AI a tananyag fejlesztésében\, tesztkérdések készítésében vagy éppen új\, kreatív oktatási ötletek generálásában? \nNem kell előzetes tapasztalat – közösen kóstolunk bele az AI világába\, lépésről lépésre\, egy támogató\, nyitott légkörben. Gyere\, próbáld ki\, kérdezz\, gondolkodj velünk\, és fedezd fel\, hogyan könnyítheti meg az oktatói munkádat a mesterséges intelligencia! \nIdőpont: 2025. június 20. | 10:00 – 13:00\nHelyszín: TAI közösségi tér (J.242) \nElőadók\nDr Szilágyi Győző Attila és Váradi Zoltán \nRegisztráció a workshopra: https://bgk.uni-obuda.hu/ai-kostolo-workshop/
URL:https://bgk.uni-obuda.hu/event/ai-kostolo-izelito-az-mi-lehetosegeibol-az-oktatasban/
LOCATION:ÓE BGK – 1081 Budapest\, Népszínház utca 8. J.242\, Budapest\, 1081\, Magyarország
ATTACH;FMTTYPE=image/jpeg:https://bgk.uni-obuda.hu/wp-content/uploads/2025/06/AI-kostolo-event-image.jpg
END:VEVENT
BEGIN:VEVENT
DTSTART;TZID=UTC:20250620T101500
DTEND;TZID=UTC:20250620T123000
DTSTAMP:20260422T024451
CREATED:20250604T043141Z
LAST-MODIFIED:20250604T043141Z
UID:19158-1750414500-1750422600@bgk.uni-obuda.hu
SUMMARY:MOHAI ÁGOTA ZSUZSANNA doktori értekezésének nyilvános vitája
DESCRIPTION:Értekezés címe:  A tűzjelző berendezések hatékonyságvizsgálatának lehetőségei  \nTémavezető: Dr. habil. Elek Barbara Júlia \nIdőpont: 2025. június 20. péntek 10:15 óra \nHelyszín: Óbudai Egyetem – Bánki Donát Gépész és Biztonságtechnikai Mérnöki Kar – 1088 Budapest\, József körút 6. – II. emelet Konferenciaterem (J200)
URL:https://bgk.uni-obuda.hu/event/mohai-agota-zsuzsanna-doktori-ertekezesenek-nyilvanos-vitaja/
LOCATION:ÓE BGK – 1088 Budapest\, József körút 6. J.200 konferenciaterem\, József körút 6.\, Budapest\, 1088\, Magyarország
ATTACH;FMTTYPE=image/jpeg:https://bgk.uni-obuda.hu/wp-content/uploads/2023/03/doctoral-event-2023-main-image.jpg
END:VEVENT
BEGIN:VEVENT
DTSTART;TZID=UTC:20250625T131500
DTEND;TZID=UTC:20250625T150000
DTSTAMP:20260422T024451
CREATED:20250604T043313Z
LAST-MODIFIED:20250604T043313Z
UID:19160-1750857300-1750863600@bgk.uni-obuda.hu
SUMMARY:WU YUE doktori értekezésének nyilvános vitája | Public defense: WU YUE
DESCRIPTION:Értekezés címe:  The paths to sustainable food security \nTémavezető: Dr. Takácsné Prof. Dr. György Katalin \nIdőpont: 2025. június 25. szerda 13:15 óra \nHelyszín: Óbudai Egyetem – Bánki Donát Gépész és Biztonságtechnikai Mérnöki Kar – 1088 Budapest\, József körút 6. – II. emelet Konferenciaterem (J200) \nAz eljárás nyelve: angol \n*** \nPublic defense: WU YUE\nTitle of the Thesis: The paths to sustainable food security \nSupervisor: Prof. Dr. Katalin György-Takács\nDate:  25th June 2025\, at 1:15 PM\nVenue:  Obuda University – Bánki Donát Faculty of Mechanical and Safety Engineering – 1088 Budapest\, József körút 6. – II. floor – room nr. J200
URL:https://bgk.uni-obuda.hu/event/wu-yue-doktori-ertekezesenek-nyilvanos-vitaja-public-defense-wu-yue/
LOCATION:ÓE BGK – 1088 Budapest\, József körút 6. J.200 konferenciaterem\, József körút 6.\, Budapest\, 1088\, Magyarország
ATTACH;FMTTYPE=image/jpeg:https://bgk.uni-obuda.hu/wp-content/uploads/2023/03/doctoral-event-2023-main-image.jpg
END:VEVENT
BEGIN:VEVENT
DTSTART;TZID=UTC:20250626T100000
DTEND;TZID=UTC:20250626T110000
DTSTAMP:20260422T024451
CREATED:20250604T043501Z
LAST-MODIFIED:20250604T043501Z
UID:19162-1750932000-1750935600@bgk.uni-obuda.hu
SUMMARY:Dr. ANTAL TÍMEA műhelyvitája
DESCRIPTION:Értekezéstervezet címe: Compliance\, mint biztonsági faktor a mesterséges intelligencia dimenziójában\nTémavezető: Dr. Számadó Róza\nIdőpont: 2025. június 26. csütörtök 10:00 óra\nHelyszín: Óbudai Egyetem – Bánki Donát Gépész és Biztonságtechnikai Mérnöki Kar – 1088 Budapest\, József körút 6. III. emelet J312-es terem
URL:https://bgk.uni-obuda.hu/event/dr-antal-timea-muhelyvitaja/
LOCATION:ÓE BGK – 1088 Budapest\, József körút 6. J.312.\, József körút 6.\, Budapest\, 1088
ATTACH;FMTTYPE=image/jpeg:https://bgk.uni-obuda.hu/wp-content/uploads/2023/03/doctoral-event-2023-main-image.jpg
END:VEVENT
BEGIN:VEVENT
DTSTART;TZID=UTC:20250627T090000
DTEND;TZID=UTC:20250627T110000
DTSTAMP:20260422T024451
CREATED:20250604T043855Z
LAST-MODIFIED:20250604T043855Z
UID:19165-1751014800-1751022000@bgk.uni-obuda.hu
SUMMARY:SZÉLPÁL SZILÁRD műhelyvitája
DESCRIPTION:Értekezéstervezet címe: Az Európai Zöld Megállapodás és várható hatásai az Unióban és Magyarországon a globális gazdasági folyamatok és a félretájékoztatás tükrében\nTémavezető: Dr. Varga János\nIdőpont: 2025. június 27. péntek 9:00 óra\nHelyszín: Óbudai Egyetem – Bánki Donát Gépész és Biztonságtechnikai Mérnöki Kar – 1088 Budapest\, József körút 6. III. emelet J312-es terem
URL:https://bgk.uni-obuda.hu/event/szelpal-szilard-muhelyvitaja/
LOCATION:ÓE BGK – 1088 Budapest\, József körút 6. J.312.\, József körút 6.\, Budapest\, 1088
ATTACH;FMTTYPE=image/jpeg:https://bgk.uni-obuda.hu/wp-content/uploads/2023/03/doctoral-event-2023-main-image.jpg
END:VEVENT
BEGIN:VEVENT
DTSTART;TZID=UTC:20250627T101500
DTEND;TZID=UTC:20250627T120000
DTSTAMP:20260422T024451
CREATED:20250623T124152Z
LAST-MODIFIED:20250623T124152Z
UID:19301-1751019300-1751025600@bgk.uni-obuda.hu
SUMMARY:GULYÁS ATTILA doktori értekezésének nyilvános vitája
DESCRIPTION:Értekezés címe:  Dzsihadista terrorszervezetek tevékenysége az interneten \nTémavezető: Prof. Dr. Besenyő János \nIdőpont: 2025. június 27. péntek 10:15 óra \nHelyszín: Óbudai Egyetem – Bánki Donát Gépész és Biztonságtechnikai Mérnöki Kar – 1088 Budapest\, József körút 6. – II. emelet Konferenciaterem (J200)
URL:https://bgk.uni-obuda.hu/event/gulyas-attila-doktori-ertekezesenek-nyilvanos-vitaja/
LOCATION:ÓE BGK – 1088 Budapest\, József körút 6. J.200 konferenciaterem\, József körút 6.\, Budapest\, 1088\, Magyarország
ATTACH;FMTTYPE=image/jpeg:https://bgk.uni-obuda.hu/wp-content/uploads/2023/03/doctoral-event-2023-main-image.jpg
END:VEVENT
BEGIN:VEVENT
DTSTART;TZID=UTC:20250630T100000
DTEND;TZID=UTC:20250630T120000
DTSTAMP:20260422T024451
CREATED:20250604T043937Z
LAST-MODIFIED:20250604T043937Z
UID:19167-1751277600-1751284800@bgk.uni-obuda.hu
SUMMARY:MAJER MILÁN műhelyvitája
DESCRIPTION:Értekezéstervezet címe: A magyar műszaki határzár hatása az Európába irányuló migrációra\nTémavezető: Prof. Dr. Besenyő János\nIdőpont: 2025. június 30. hétfő 10:00 óra\nHelyszín: Óbudai Egyetem – Bánki Donát Gépész és Biztonságtechnikai  Mérnöki Kar – 1088 Budapest\, József körút 6. II. emelet – Konferenciaterem (J200)
URL:https://bgk.uni-obuda.hu/event/majer-milan-muhelyvitaja/
LOCATION:ÓE BGK – 1088 Budapest\, József körút 6. J.200 konferenciaterem\, József körút 6.\, Budapest\, 1088\, Magyarország
ATTACH;FMTTYPE=image/jpeg:https://bgk.uni-obuda.hu/wp-content/uploads/2023/03/doctoral-event-2023-main-image.jpg
END:VEVENT
END:VCALENDAR