BEGIN:VCALENDAR
VERSION:2.0
PRODID:-//Óbudai Egyetem - Bánki Donát Gépész és Biztonságtechnikai Mérnöki Kar - ECPv6.15.12.2//NONSGML v1.0//EN
CALSCALE:GREGORIAN
METHOD:PUBLISH
X-ORIGINAL-URL:https://bgk.uni-obuda.hu
X-WR-CALDESC:Események Óbudai Egyetem - Bánki Donát Gépész és Biztonságtechnikai Mérnöki Kar
REFRESH-INTERVAL;VALUE=DURATION:PT1H
X-Robots-Tag:noindex
X-PUBLISHED-TTL:PT1H
BEGIN:VTIMEZONE
TZID:UTC
BEGIN:STANDARD
TZOFFSETFROM:+0000
TZOFFSETTO:+0000
TZNAME:UTC
DTSTART:20240101T000000
END:STANDARD
END:VTIMEZONE
BEGIN:VEVENT
DTSTART;VALUE=DATE:20250805
DTEND;VALUE=DATE:20250809
DTSTAMP:20260421T232750
CREATED:20250623T064618Z
LAST-MODIFIED:20250623T064618Z
UID:19295-1754352000-1754697599@bgk.uni-obuda.hu
SUMMARY:Nyári Egyetem a Bánkin
DESCRIPTION:
URL:https://bgk.uni-obuda.hu/event/nyari-egyetem-a-bankin-2/
LOCATION:ÓE BGK – 1081 Budapest\, Népszínház utca 8.
ATTACH;FMTTYPE=image/jpeg:https://bgk.uni-obuda.hu/wp-content/uploads/2025/06/nyari-egyetem-bgk-2025_event-image.jpg
END:VEVENT
BEGIN:VEVENT
DTSTART;TZID=UTC:20250815T160000
DTEND;TZID=UTC:20250815T180000
DTSTAMP:20260421T232750
CREATED:20250729T064437Z
LAST-MODIFIED:20250729T064437Z
UID:19559-1755273600-1755280800@bgk.uni-obuda.hu
SUMMARY:Nyílt Nap a légijármű üzemeltető szakmérnök/szakember képzésen
DESCRIPTION:Ismerd meg a Légijármű üzemeltető szakmérnök/szakember képzést! \nSzeretettel várunk az Óbudai Egyetem Bánki Kar és az Airwin Repülőiskola közös nyílt napján \n2025. augusztus 15. 16:00 órától \naz Óbudai Egyetem Bánki Donát Gépész és Biztonságtechnikai Mérnöki Karon (1088 Budapest\, József körút 6. J.200 konferenciaterem) \nA részvétel regisztrációhoz kötött\, a regisztrációt az alábbi oldalon találják: https://bgk.uni-obuda.hu/legijarmu-uzemelteto-nyilt-nap
URL:https://bgk.uni-obuda.hu/event/nyilt-nap-a-legijarmu-uzemelteto-szakmernok-szakember-kepzesen-3/
LOCATION:ÓE BGK – 1088 Budapest\, József körút 6. J.200 konferenciaterem\, József körút 6.\, Budapest\, 1088\, Magyarország
ATTACH;FMTTYPE=image/jpeg:https://bgk.uni-obuda.hu/wp-content/uploads/2025/07/legijarmu-kepzes-nyilt-nap-2025-event-image.jpg
END:VEVENT
BEGIN:VEVENT
DTSTART;VALUE=DATE:20250828
DTEND;VALUE=DATE:20250830
DTSTAMP:20260421T232750
CREATED:20250728T090538Z
LAST-MODIFIED:20250728T090623Z
UID:19547-1756339200-1756511999@bgk.uni-obuda.hu
SUMMARY:Higher Education in the trap of Artificial Intelligence – HETAI 2025
DESCRIPTION:This is the first year that we are organising the International Workshop on Higher Education in the trap of Artificial Intelligence in hybrid format. \nArtificial intelligence is transforming university teaching\, learning\, research\, and administrative work. In this workshop\, we would like to learn where\, how\, and with what limitations artificial intelligence is being used in order to apply it most effectively in this new field. \nWe warmly welcome anyone who would like to share good practices in teaching\, learning\, and administration in Higher Education related to Artificial Intelligence. \nInformation and Registration: https://bgk.uni-obuda.hu/hetai-2025
URL:https://bgk.uni-obuda.hu/event/higher-education-in-the-trap-of-artificial-intelligence-hetai-2025/
LOCATION:ÓE BGK – 1088 Budapest\, József körút 6. J.200 konferenciaterem\, József körút 6.\, Budapest\, 1088\, Magyarország
ATTACH;FMTTYPE=image/jpeg:https://bgk.uni-obuda.hu/wp-content/uploads/2025/07/resized_hetai-2025-bgk-event-image_3_2.jpg
END:VEVENT
END:VCALENDAR