BEGIN:VCALENDAR
VERSION:2.0
PRODID:-//Óbudai Egyetem - Bánki Donát Gépész és Biztonságtechnikai Mérnöki Kar - ECPv6.15.12.2//NONSGML v1.0//EN
CALSCALE:GREGORIAN
METHOD:PUBLISH
X-WR-CALNAME:Óbudai Egyetem - Bánki Donát Gépész és Biztonságtechnikai Mérnöki Kar
X-ORIGINAL-URL:https://bgk.uni-obuda.hu
X-WR-CALDESC:Események Óbudai Egyetem - Bánki Donát Gépész és Biztonságtechnikai Mérnöki Kar
REFRESH-INTERVAL;VALUE=DURATION:PT1H
X-Robots-Tag:noindex
X-PUBLISHED-TTL:PT1H
BEGIN:VTIMEZONE
TZID:Europe/Helsinki
BEGIN:DAYLIGHT
TZOFFSETFROM:+0200
TZOFFSETTO:+0300
TZNAME:EEST
DTSTART:20240331T010000
END:DAYLIGHT
BEGIN:STANDARD
TZOFFSETFROM:+0300
TZOFFSETTO:+0200
TZNAME:EET
DTSTART:20241027T010000
END:STANDARD
BEGIN:DAYLIGHT
TZOFFSETFROM:+0200
TZOFFSETTO:+0300
TZNAME:EEST
DTSTART:20250330T010000
END:DAYLIGHT
BEGIN:STANDARD
TZOFFSETFROM:+0300
TZOFFSETTO:+0200
TZNAME:EET
DTSTART:20251026T010000
END:STANDARD
BEGIN:DAYLIGHT
TZOFFSETFROM:+0200
TZOFFSETTO:+0300
TZNAME:EEST
DTSTART:20260329T010000
END:DAYLIGHT
BEGIN:STANDARD
TZOFFSETFROM:+0300
TZOFFSETTO:+0200
TZNAME:EET
DTSTART:20261025T010000
END:STANDARD
END:VTIMEZONE
BEGIN:VTIMEZONE
TZID:UTC
BEGIN:STANDARD
TZOFFSETFROM:+0000
TZOFFSETTO:+0000
TZNAME:UTC
DTSTART:20240101T000000
END:STANDARD
END:VTIMEZONE
BEGIN:VEVENT
DTSTART;TZID=Europe/Helsinki:20251104T100000
DTEND;TZID=Europe/Helsinki:20251104T140000
DTSTAMP:20260421T185228
CREATED:20251028T135721Z
LAST-MODIFIED:20251028T135721Z
UID:20419-1762250400-1762264800@bgk.uni-obuda.hu
SUMMARY:Nyílt Nap a Bánkin
DESCRIPTION:Kedves Érdeklődők! \nA 2025-ös év számos újdonságot tartogat az Óbudai Egyetem Bánki Kar életében\, elkezdődött például a Népszínház utcai campus legnagyobb előadótermének és környezetének felújítása\, melynek helyén egy modern\, közel 250 fős előadó\, egyben 150 fő elektronikus vizsgáztatásra alkalmas tér épül meg\, ezzel párhuzamosan pedig az előadó tetőszintjén két emelet magas\, üvegtetővel borított aula kerül kialakításra. \nA változás nyílt napjainkat is érinti\, 2025. évi nyílt napjainkon limitált férőhelyek állnak rendelkezésre\, és nyílt napjaink csak regisztrációhoz kötötten látogathatók. A regisztrációs felületet alább találják\, kérjük\, hogy minden érdeklődő csak arra a nyílt napra regisztráljon\, amelyen tervezi\, hogy részt vesz \nREGISZTRÁCIÓ NYÍLT NAPJAINKRA\nNyílt napok \n \n  \nNyílt napunkon a részvétel ingyenes\, de regisztrációhoz kötött! Regisztráció hiányában nem áll módunkban hallgatókat fogadni.
URL:https://bgk.uni-obuda.hu/event/nyilt-nap-a-bankin-7/
LOCATION:ÓE BGK – 1088 Budapest\, József körút 6. J.200 konferenciaterem\, József körút 6.\, Budapest\, 1088\, Magyarország
ATTACH;FMTTYPE=image/jpeg:https://bgk.uni-obuda.hu/wp-content/uploads/2025/10/nyilt-napok-a-bankin-2025-26-event-image-v2.jpg
END:VEVENT
BEGIN:VEVENT
DTSTART;VALUE=DATE:20251107
DTEND;VALUE=DATE:20251108
DTSTAMP:20260421T185228
CREATED:20250630T083418Z
LAST-MODIFIED:20250630T083418Z
UID:19359-1762473600-1762559999@bgk.uni-obuda.hu
SUMMARY:IV. Bánki-HAAS országos CNC programozási verseny (személyes forduló)
DESCRIPTION:Szeretettel várjuk olyan nappalis és levelezős egyetemista hallgatók 3 fős csapatait és felkészítő tanáraikat\, akik komolyan érdeklődnek a számítógépes tervezés\, és különösen a számítógéppel támogatott gyártás iránt. \nA versenyt több fordulóban szervezzük\, egy online selejtező\, egy házi feladat és egy személyes részvétellel megtartott\, 3 körből álló küzdelem formájában. A megmérkőző csapatok a tapasztalatszerzés és önmaguk kipróbálása mellet értékes tárgy és egyéb nyereményekért is ringbe szállnak! \nVerbuváld össze 3 fős egyetemi csapatod és jelentkezz előregisztrációs űrlapunkon\, hogy ne maradj le egyetlen fontos információról sem! \nA személyes forduló ideje: 2025. november 7.
URL:https://bgk.uni-obuda.hu/event/iv-banki-haas-orszagos-cnc-programozasi-verseny-szemelyes-fordulo/
LOCATION:ÓE BGK – 1081 Budapest\, Népszínház utca 8.
ATTACH;FMTTYPE=image/jpeg:https://bgk.uni-obuda.hu/wp-content/uploads/2025/06/IV.-Banki-HAAS-CNC-verseny-event-image.jpg
END:VEVENT
BEGIN:VEVENT
DTSTART;VALUE=DATE:20251111
DTEND;VALUE=DATE:20251112
DTSTAMP:20260421T185228
CREATED:20250905T070717Z
LAST-MODIFIED:20250911T092712Z
UID:19916-1762819200-1762905599@bgk.uni-obuda.hu
SUMMARY:ESB Mérnöki Szimpózium a Bánkin 2025
DESCRIPTION:
URL:https://bgk.uni-obuda.hu/event/esb-mernoki-szimpozium-a-bankin-2025/
LOCATION:ÓE BGK – 1081 Budapest\, Népszínház utca 8.
ATTACH;FMTTYPE=image/jpeg:https://bgk.uni-obuda.hu/wp-content/uploads/2025/09/esb-event-image-v2.jpg
END:VEVENT
BEGIN:VEVENT
DTSTART;VALUE=DATE:20251112
DTEND;VALUE=DATE:20251113
DTSTAMP:20260421T185228
CREATED:20251020T112754Z
LAST-MODIFIED:20251020T112754Z
UID:20294-1762905600-1762991999@bgk.uni-obuda.hu
SUMMARY:62. Tudományos Diákköri Konferencia
DESCRIPTION:Az Óbudai Egyetem 62. Tudományos Diákköri Konferenciáját novemberben tartja. Eredményes munkát és sikeres konferenciát kíván az Egyetemi Tudományos Diákköri Tanács! \nA 62. Tudományos Diákköri Konferenciát 2025. november 12-én (szerdán) tartjuk. \nA konferenciára 2025. október 21-én délig (12:00 óra) lehet jelentkezni a honlapon. \nA dolgozat elkészítésénél javasolt figyelembe venni az Országos Tudományos Diákköri Konferencia megcélzott szekciójának formai előírásait. A dolgozatot november 6. (CSÜTÖRTÖK) délig (12:00 óra) kell feltölteni a rendszerbe. \nA 62. Tudományos Diákköri Konferencia ünnepélyes eredményhirdetését november 26-án 17:00-ra tervezzük. Helyszín: Budapest III.\, Bécsi út 96/b. Aud. Max. előadó. \n\nAz Óbudai Egyetem 2025/26. tanévi TDK tevékenységét és konferenciáit támogatja a Nemzeti Tehetség Program és a Kulturális és Innovációs Minisztérium\, az Emberi Erőforrás Támogatáskezelő által kiírt ” Az Országos Tudományos Diákköri Konferencián\, valamint tudományos műhelyein való részvétel és a lebonyolítási feladatok ellátása” című pályázata (NTP-HHTDK-25).
URL:https://bgk.uni-obuda.hu/event/62-tudomanyos-diakkori-konferencia/
ATTACH;FMTTYPE=image/jpeg:https://bgk.uni-obuda.hu/wp-content/uploads/2025/10/resized_tdk-event-image-2025.jpg
END:VEVENT
BEGIN:VEVENT
DTSTART;VALUE=DATE:20251113
DTEND;VALUE=DATE:20251115
DTSTAMP:20260421T185228
CREATED:20250905T071031Z
LAST-MODIFIED:20250905T071031Z
UID:19919-1762992000-1763164799@bgk.uni-obuda.hu
SUMMARY:7th International Conference on Central European Critical Infrastructure Protection (ICCECIP 2025)
DESCRIPTION:
URL:https://bgk.uni-obuda.hu/event/7th-international-conference-on-central-european-critical-infrastructure-protection-iccecip-2025/
LOCATION:ÓE BGK – 1081 Budapest\, Népszínház utca 8.
ATTACH;FMTTYPE=image/jpeg:https://bgk.uni-obuda.hu/wp-content/uploads/2025/09/iccecip-2025-event-image.jpg
END:VEVENT
BEGIN:VEVENT
DTSTART;VALUE=DATE:20251119
DTEND;VALUE=DATE:20251120
DTSTAMP:20260421T185228
CREATED:20250905T071135Z
LAST-MODIFIED:20251001T081634Z
UID:19922-1763510400-1763596799@bgk.uni-obuda.hu
SUMMARY:Arany Díszoklevelek Ünnepélyes Átadása
DESCRIPTION:
URL:https://bgk.uni-obuda.hu/event/arany-diszoklevelek-unnepelyes-atadasa/
LOCATION:ÓE BGK – 1088 Budapest\, József körút 6. J.200 konferenciaterem\, József körút 6.\, Budapest\, 1088\, Magyarország
ATTACH;FMTTYPE=image/jpeg:https://bgk.uni-obuda.hu/wp-content/uploads/2025/10/arany-diszoklevel-2025-event-image-v2.jpg
END:VEVENT
BEGIN:VEVENT
DTSTART;TZID=Europe/Helsinki:20251119T133000
DTEND;TZID=Europe/Helsinki:20251119T153000
DTSTAMP:20260421T185228
CREATED:20251105T132133Z
LAST-MODIFIED:20251105T141941Z
UID:20488-1763559000-1763566200@bgk.uni-obuda.hu
SUMMARY:SZÉN ISTVÁN doktori értekezéstervezetének műhelyvitája | Home Defense of a Doctoral Dissertation
DESCRIPTION:A Biztonságtudományi Doktori Iskola tisztelettel meghívja Önt \nSZÉN ISTVÁN: Hidrogénbiztonság proaktív és reaktív szemléletben \ncímű doktori (PhD) értekezéstervezet műhelyvitájára. \nTémavezető: Bakosné Dr. Diószegi Mónika és Dr. habil. Rácz Ervin \nA műhelyvita időpontja: 2025. november 19. szerda 13:30 óra \nA műhelyvita helyszíne: Óbudai Egyetem – Bánki Donát Gépész és Biztonságtechnikai Mérnöki Kar – 1088 Budapest\, József körút 6. – III. emelet J312-es terem \n  \nAz értekezéstervezet megtalálható a Doktori Iskola honlapján: https://bdi.uni-obuda.hu/hu/doktori-cselekmenyek \n  \nKérem\, amennyiben ideje engedi\, vegyen részt a műhelyvitán\, hozzászólásával segítse a jelöltet értekezésének elkészítésében! \n  \n  \nThe Doctoral School on Safety and Security Sciences cordially invite you to the home defense of the doctoral dissertation of Isván SZÉN. \nSupervisor: Dr. Mónika Diószegi and Dr. habil. Ervin Rácz \nTitle of the dissertation: A Proactive and Reactive Approach to Hydrogen Safety \nDate of the defense: Friday\, 19 November 2025\, at 1:30 p.m. \nVenue: Óbuda University – Bánki Donát Faculty of Mechanical and Safety Engineering\n1088 Budapest\, József körút 6.\, 3rd floor; room J312 \nThe language of the procedure is Hungarian.
URL:https://bgk.uni-obuda.hu/event/szen-istvan-doktori-ertekezestervezetenek-muhelyvitaja-home-defense-of-a-doctoral-dissertation/
LOCATION:ÓE BGK – 1088 Budapest\, József körút 6. J.312.\, József körút 6.\, Budapest\, 1088
ATTACH;FMTTYPE=image/jpeg:https://bgk.uni-obuda.hu/wp-content/uploads/2025/06/doctoral-school-event-2025-1.jpg
END:VEVENT
BEGIN:VEVENT
DTSTART;TZID=UTC:20251120T090000
DTEND;TZID=UTC:20251120T160000
DTSTAMP:20260421T185228
CREATED:20250905T071247Z
LAST-MODIFIED:20251018T085154Z
UID:19925-1763629200-1763654400@bgk.uni-obuda.hu
SUMMARY:Szilvay Kornél Tűzvédelmi Konferencia 2025
DESCRIPTION:
URL:https://bgk.uni-obuda.hu/event/szilvay-kornel-tuzvedelmi-konferencia-2025/
LOCATION:ÓE BGK – 1088 Budapest\, József körút 6. J.200 konferenciaterem\, József körút 6.\, Budapest\, 1088\, Magyarország
ATTACH;FMTTYPE=image/png:https://bgk.uni-obuda.hu/wp-content/uploads/2025/09/BGK-Szilvay-Kornel-konferencia-2025-event-image.png
END:VEVENT
BEGIN:VEVENT
DTSTART;TZID=Europe/Helsinki:20251121T091500
DTEND;TZID=Europe/Helsinki:20251121T110000
DTSTAMP:20260421T185228
CREATED:20251105T132332Z
LAST-MODIFIED:20251105T141852Z
UID:20490-1763716500-1763722800@bgk.uni-obuda.hu
SUMMARY:FARAGÓ FERENC doktori értekezésének nyilvános vitája | Public Defense of the Doctoral Dissertation
DESCRIPTION:A Biztonságtudományi Doktori Iskola és a Műszaki és Természettudományági Doktori és Habilitációs Tanács tisztelettel meghívja Önt FARAGÓ FERENC doktori értekezésének nyilvános vitájára. \nTémavezető: Dr. habil. Szabó Gyula \nAz értekezés címe: Munkahelyi egészségvédelmi és biztonságmenedzsment döntéseket előkészítő eszközök alkalmazása közép- és nagyvállalati környezetben \nA védés időpontja: 2025. november 21. péntek 9:15 óra \nA védés helyszíne: Óbudai Egyetem – Bánki Donát Gépész és Biztonságtechnikai Mérnöki Kar \n1088 Budapest\, József körút 6. – II. emelet Konferenciaterem (J200) \n  \nA Bíráló Bizottság összetétele: \nElnök: Prof. Em. Dr. Berek Lajos professor emeritus; ÓE \nTitkár: Dr. Őszi Arnold adjunktus; ÓE \nTagok: Prof. Dr. Restás Ágoston egyetemi tanár; külső – NKE \nDr. Pető Richárd adjunktus\, ÓE \nDr. Lesfalvi Tibor osztályvezető; külső – Nemzetgazdasági Minisztérium \nBírálók: Dr. habil. Nagy Rudolf adjunktus; ÓE \nDr. Németh Edit adjunktus; külső – ELTE \n  \nINVITATION\nto the Public Defense of the Doctoral Dissertation \nThe Doctoral School on Safety and Security Sciences and the Doctoral and Habilitation Council for\nEngineering and Natural Sciences of Óbuda University cordially invite you to the public defense of\nthe doctoral dissertation of Ferenc FARAGÓ. \nSupervisor: Dr. habil. Gyula SZABÓ \nTitle of the dissertation: Application of Occupational Health and Safety Management DecisionSupport Tools in Medium and Large Enterprises\nDate of the defense: Friday\, 21 November 2025\, at 9:15 a.m. \nVenue: Óbuda University – Bánki Donát Faculty of Mechanical and Safety Engineering\n1088 Budapest\, József körút 6.\, 2nd floor\, Conference Room (J200)\nThe language of the procedure is Hungarian. \nMembers of the Evaluation Committee:\nChair: Prof. Em. Dr. Lajos Berek\, Professor Emeritus\, Óbuda University\nSecretary: Dr. Arnold Őszi\, Assistant Professor\, Óbuda University \nMembers:\nProf. Dr. Ágoston Restás\, Full Professor – External (National University of Public Service)\nDr. Richárd Pető\, Assistant Professor\, Óbuda University\nDr. Tibor Lesfalvi\, Head of Department – External (Ministry for National Economy) \nReviewers:\nDr. habil. Rudolf Nagy\, Assistant Professor\, Óbuda University\nDr. Edit Németh\, Assistant Professor – External (Eötvös Loránd University)
URL:https://bgk.uni-obuda.hu/event/farago-ferenc-doktori-ertekezesenek-nyilvanos-vitaja-public-defense-of-the-doctoral-dissertation/
LOCATION:ÓE BGK – 1088 Budapest\, József körút 6. J.200 konferenciaterem\, József körút 6.\, Budapest\, 1088\, Magyarország
ATTACH;FMTTYPE=image/jpeg:https://bgk.uni-obuda.hu/wp-content/uploads/2025/06/doctoral-school-event-2025-1.jpg
END:VEVENT
BEGIN:VEVENT
DTSTART;TZID=Europe/Helsinki:20251121T113000
DTEND;TZID=Europe/Helsinki:20251121T130000
DTSTAMP:20260421T185228
CREATED:20251107T103944Z
LAST-MODIFIED:20251107T103944Z
UID:20502-1763724600-1763730000@bgk.uni-obuda.hu
SUMMARY:LEISZTNER PÉTER doktori értekezésének műhelyvitája | Home Defense of a Doctoral Dissertation
DESCRIPTION:A Biztonságtudományi Doktori Iskola meghívja Önt \nLEISZTNER PÉTER: A munkavédelmi képviselők kompetencia alapú kiválasztása\, fejlesztése\, és beválásvizsgálata \ncímű doktori (PhD) értekezéstervezet műhelyvitájára. \nTémavezető: Dr. habil. Szabó Gyula \nA műhelyvita időpontja: 2025. november 21. péntek 11:30 óra \nA műhelyvita helyszíne: Óbudai Egyetem – Bánki Donát Gépész és Biztonságtechnikai Mérnöki Kar – 1088 Budapest\, József körút 6. – III. emelet Konferenciaterem (J200) \nAz értekezéstervezet megtalálható a Doktori Iskola honlapján: https://bdi.uni-obuda.hu/hu/doktori-cselekmenyek \nKérem\, amennyiben ideje engedi\, vegyen részt a műhelyvitán\, hozzászólásával segítse a jelöltet értekezésének elkészítésében! \n  \nINVITATION \nto the Home Defense of a Doctoral Dissertation \nThe Doctoral School on Safety and Security Sciences cordially invite you to the home defense of the doctoral dissertation of Péter LEISZTNER. \nSupervisor: Dr. habil. Gyula Szabó \nTitle of the dissertation: Competence-Based Selection\, Development\, and Performance Evaluation of Occupational Safety Representatives \nDate of the defense: Friday\, 21 November 2025\, at 11:30 a.m. \nVenue: Óbuda University – Bánki Donát Faculty of Mechanical and Safety Engineering \n1088 Budapest\, József körút 6.\, 2nd floor\, Conference Room (J200) \nThe language of the procedure is Hungarian. \nShould your schedule allow\, you are cordially invited to attend the home defense (workshop discussion) and to support the candidate in the completion of the dissertation through your valuable comments and insights.
URL:https://bgk.uni-obuda.hu/event/leisztner-peter-doktori-ertekezesenek-muhelyvitaja-home-defense-of-a-doctoral-dissertation/
LOCATION:ÓE BGK – 1088 Budapest\, József körút 6. J.200 konferenciaterem\, József körút 6.\, Budapest\, 1088\, Magyarország
ATTACH;FMTTYPE=image/jpeg:https://bgk.uni-obuda.hu/wp-content/uploads/2025/06/doctoral-school-event-2025-1.jpg
END:VEVENT
BEGIN:VEVENT
DTSTART;TZID=Europe/Helsinki:20251126T100000
DTEND;TZID=Europe/Helsinki:20251126T140000
DTSTAMP:20260421T185228
CREATED:20251028T135826Z
LAST-MODIFIED:20251028T135826Z
UID:20422-1764151200-1764165600@bgk.uni-obuda.hu
SUMMARY:Nyílt Nap a Bánkin
DESCRIPTION:Kedves Érdeklődők! \nA 2025-ös év számos újdonságot tartogat az Óbudai Egyetem Bánki Kar életében\, elkezdődött például a Népszínház utcai campus legnagyobb előadótermének és környezetének felújítása\, melynek helyén egy modern\, közel 250 fős előadó\, egyben 150 fő elektronikus vizsgáztatásra alkalmas tér épül meg\, ezzel párhuzamosan pedig az előadó tetőszintjén két emelet magas\, üvegtetővel borított aula kerül kialakításra. \nA változás nyílt napjainkat is érinti\, 2025. évi nyílt napjainkon limitált férőhelyek állnak rendelkezésre\, és nyílt napjaink csak regisztrációhoz kötötten látogathatók. A regisztrációs felületet alább találják\, kérjük\, hogy minden érdeklődő csak arra a nyílt napra regisztráljon\, amelyen tervezi\, hogy részt vesz \nREGISZTRÁCIÓ NYÍLT NAPJAINKRA\nNyílt napok \n \nNyílt napunkon a részvétel ingyenes\, de regisztrációhoz kötött! Regisztráció hiányában nem áll módunkban hallgatókat fogadni.
URL:https://bgk.uni-obuda.hu/event/nyilt-nap-a-bankin-8/
LOCATION:ÓE BGK – 1088 Budapest\, József körút 6. J.200 konferenciaterem\, József körút 6.\, Budapest\, 1088\, Magyarország
ATTACH;FMTTYPE=image/jpeg:https://bgk.uni-obuda.hu/wp-content/uploads/2025/10/nyilt-napok-a-bankin-2025-26-event-image-v2.jpg
END:VEVENT
BEGIN:VEVENT
DTSTART;TZID=Europe/Helsinki:20251127T150000
DTEND;TZID=Europe/Helsinki:20251127T180000
DTSTAMP:20260421T185228
CREATED:20251031T112659Z
LAST-MODIFIED:20251031T113043Z
UID:20452-1764255600-1764266400@bgk.uni-obuda.hu
SUMMARY:Munkahelyi akadálymentesítés és inkluzív dizájn | Workplace Accessibility and Inclusive Design WORKSHOP
DESCRIPTION:Tisztelt Érdeklődők\, \n2025. November 27-én (csütörtökön)\, 15:00 órától szakmai workshop-ot tartunk angol nyelven „Munkahelyi akadálymentesítés és inkluzív dizájn” címmel. \nHelyszín: Óbudai Egyetem Bánki Donát Gépész és Biztonságtechnikai Mérnöki Kar (1088 Budapest\, József körút 6. II. emelet J.200 Konferenciaterem) \nAz esemény ingyenes de regisztrációhoz kötött\, regisztrálni a jelentkezési űrlapon lehet 2025. november 17-ig.
URL:https://bgk.uni-obuda.hu/event/munkahelyi-akadalymentesites-es-inkluziv-dizajn-workplace-accessibility-and-inclusive-design-workshop/
LOCATION:ÓE BGK – 1088 Budapest\, József körút 6. J.200 konferenciaterem\, József körút 6.\, Budapest\, 1088\, Magyarország
ATTACH;FMTTYPE=image/jpeg:https://bgk.uni-obuda.hu/wp-content/uploads/2025/10/munkahelyi-akadalymentesites-workshop-event-image.jpg
END:VEVENT
BEGIN:VEVENT
DTSTART;TZID=Europe/Helsinki:20251128T101500
DTEND;TZID=Europe/Helsinki:20251128T120000
DTSTAMP:20260421T185228
CREATED:20251120T112722Z
LAST-MODIFIED:20251120T112722Z
UID:20694-1764324900-1764331200@bgk.uni-obuda.hu
SUMMARY:KAFI ABDALLAH Public Defense of the Doctoral Dissertation
DESCRIPTION:The Doctoral School on Safety and Security Sciences and the Doctoral and Habilitation Council for  Engineering and Natural Sciences of Óbuda University cordially invite you to the public defense of the doctoral dissertation of KAFI ABDALLAH. \nSupervisor: Prof. Dr. Tünde Anna KOVÁCS \nTitle of the dissertation: Safe Welder Robot Application in the Defense Industry\nDate of the event: Friday 28 November\, 2025 at 10:15 AM \nThe public defense takes place ONLINE via the following link:\nhttps://bbb3.banki.hu/rooms/web-q16-nzn-gmv/join \nCommittee of the Public Defense:\nChair: Prof. Dr. László POKORÁDI full professor; Obuda University\nSecretary: Dr. Enikő Réka FÁBIÁN associate professor; Obuda University\nMembers: Dr. László KUZSELLA associate professor; University of Miskolc\nDr. habil. Norbert DARUKA branch head; HDF Transformation Command – Scientific Research Center\nDr. Péter PINKE associate professor; Obuda University \nReviewers: Dr. habil. Tibor FARKAS associate professor; Obuda University\nProf. Dr. Tamás BEREK full professor; Ludovika University of Public Service \nBudapest\, 14 November 202
URL:https://bgk.uni-obuda.hu/event/kafi-abdallah-public-defense-of-the-doctoral-dissertation/
ATTACH;FMTTYPE=image/jpeg:https://bgk.uni-obuda.hu/wp-content/uploads/2025/06/doctoral-school-event-2025-1.jpg
END:VEVENT
BEGIN:VEVENT
DTSTART;TZID=Europe/Helsinki:20251129T130000
DTEND;TZID=Europe/Helsinki:20251129T160000
DTSTAMP:20260421T185228
CREATED:20251114T084354Z
LAST-MODIFIED:20251114T084354Z
UID:20668-1764421200-1764432000@bgk.uni-obuda.hu
SUMMARY:Agilis benchmarking workshop - tapasztalatok\, megoldások
DESCRIPTION:Izgalmas szakmai workshopra invitálunk az Óbudai Egyetem Bánki Karára\, 2025. november 29-én\, ahol az agilis projektmenedzsment világába\, esettanulmányok bemutatása és megvitatása által nyerhetünk betekintést! A programot  Prof. Dr. Rajnai Zoltán az Egyetem rektorhelyettese moderálja. \nA program során a meghívott szakértőink esettanulmányokat mutatnak be\, ezt követően a résztvevő szakértőkkel és érdeklődőkkel közösen vitatjuk meg\, hogy az egyes helyzetekben melyek voltak/vagy lehettek volna a kulcskritériumok\, hogy jelent meg az agilis szemlélet. \nIdőpont: 2025. november 29. 13:00\nHelyszín: 1088 Budapest\, József krt. 6. J200-as terem \nA rendezvény ingyenes\, de regisztrációhoz kötött.
URL:https://bgk.uni-obuda.hu/event/agilis-benchmarking-workshop-tapasztalatok-megoldasok/
LOCATION:ÓE BGK – 1088 Budapest\, József körút 6. J.200 konferenciaterem\, József körút 6.\, Budapest\, 1088\, Magyarország
ATTACH;FMTTYPE=image/png:https://bgk.uni-obuda.hu/wp-content/uploads/2025/11/agilis-bechmarking-workshop-event-image.png
END:VEVENT
END:VCALENDAR