BEGIN:VCALENDAR
VERSION:2.0
PRODID:-//Óbudai Egyetem - Bánki Donát Gépész és Biztonságtechnikai Mérnöki Kar - ECPv6.15.12.2//NONSGML v1.0//EN
CALSCALE:GREGORIAN
METHOD:PUBLISH
X-WR-CALNAME:Óbudai Egyetem - Bánki Donát Gépész és Biztonságtechnikai Mérnöki Kar
X-ORIGINAL-URL:https://bgk.uni-obuda.hu
X-WR-CALDESC:Események Óbudai Egyetem - Bánki Donát Gépész és Biztonságtechnikai Mérnöki Kar
REFRESH-INTERVAL;VALUE=DURATION:PT1H
X-Robots-Tag:noindex
X-PUBLISHED-TTL:PT1H
BEGIN:VTIMEZONE
TZID:Europe/Paris
BEGIN:DAYLIGHT
TZOFFSETFROM:+0100
TZOFFSETTO:+0200
TZNAME:CEST
DTSTART:20250330T010000
END:DAYLIGHT
BEGIN:STANDARD
TZOFFSETFROM:+0200
TZOFFSETTO:+0100
TZNAME:CET
DTSTART:20251026T010000
END:STANDARD
BEGIN:DAYLIGHT
TZOFFSETFROM:+0100
TZOFFSETTO:+0200
TZNAME:CEST
DTSTART:20260329T010000
END:DAYLIGHT
BEGIN:STANDARD
TZOFFSETFROM:+0200
TZOFFSETTO:+0100
TZNAME:CET
DTSTART:20261025T010000
END:STANDARD
BEGIN:DAYLIGHT
TZOFFSETFROM:+0100
TZOFFSETTO:+0200
TZNAME:CEST
DTSTART:20270328T010000
END:DAYLIGHT
BEGIN:STANDARD
TZOFFSETFROM:+0200
TZOFFSETTO:+0100
TZNAME:CET
DTSTART:20271031T010000
END:STANDARD
END:VTIMEZONE
BEGIN:VEVENT
DTSTART;TZID=Europe/Paris:20260108T100000
DTEND;TZID=Europe/Paris:20260110T170000
DTSTAMP:20260421T141532
CREATED:20251217T201221Z
LAST-MODIFIED:20251217T201221Z
UID:21086-1767866400-1768064400@bgk.uni-obuda.hu
SUMMARY:EDUCATIO Kiállítás 2026
DESCRIPTION:Januárban újra Educatio Kiállítás!  Találkozz az Óbudai Egyetem Bánkis hallgatóival a kiállításon\, kérdezz szakjainkról\, felvételiről\, bármiről ami érdekel\, kötetlenül. \nInformációk:\n Helyszín: Hungexpo A és D pavilon (1101 Budapest\, Albertirsai út 10.)\n Időpont: 2026. január 8-10.\, (csütörtöktől szombatig)\, minden nap 10:00–17:00 között.\n A részvétel ingyenes\, de regisztrációhoz kötött!\n Egyéni és csoportos regisztráció október végén az Universum.hu appban.\nKészülj fel\, és töltsd le még ma!\n Letöltés Android-készülékekre:\nhttps://play.google.com/store/apps/details?id=hu.universum.app\n Letöltés Apple-készülékekre:\nhttps://apps.apple.com/hu/app/universum-hu/id6474875578?l=hu
URL:https://bgk.uni-obuda.hu/event/educatio-kiallitas-2026/
LOCATION:Hungexpo 1101 Albertirsai út 10.\, Albertirsai út 10.\, Budapest\, 1101\, Magyarország
ATTACH;FMTTYPE=image/jpeg:https://bgk.uni-obuda.hu/wp-content/uploads/2025/12/edu2026-event-image.jpg
END:VEVENT
BEGIN:VEVENT
DTSTART;TZID=Europe/Paris:20260121T100000
DTEND;TZID=Europe/Paris:20260121T140000
DTSTAMP:20260421T141532
CREATED:20251217T201428Z
LAST-MODIFIED:20251217T201428Z
UID:21090-1768989600-1769004000@bgk.uni-obuda.hu
SUMMARY:Nyílt Nap a Bánkin
DESCRIPTION:Kedves Érdeklődők! \nA 2025-ös év számos újdonságot tartogat az Óbudai Egyetem Bánki Kar életében\, elkezdődött például a Népszínház utcai campus legnagyobb előadótermének és környezetének felújítása\, melynek helyén egy modern\, közel 250 fős előadó\, egyben 150 fő elektronikus vizsgáztatásra alkalmas tér épül meg\, ezzel párhuzamosan pedig az előadó tetőszintjén két emelet magas\, üvegtetővel borított aula kerül kialakításra. \nA változás nyílt napjainkat is érinti\, 2025-2026. évi nyílt napjainkon limitált férőhelyek állnak rendelkezésre\, és nyílt napjaink csak regisztrációhoz kötötten látogathatók. A regisztrációs felületet alább találják\, kérjük\, hogy minden érdeklődő csak arra a nyílt napra regisztráljon\, amelyen tervezi\, hogy részt vesz. \nNyílt napunkon a részvétel ingyenes\, de regisztrációhoz kötött! Regisztráció hiányában nem áll módunkban hallgatókat fogadni. Kérjük\, hogy az esetleges kísérők (szülők\, barátok) is regisztráljanak.
URL:https://bgk.uni-obuda.hu/event/nyilt-nap-a-bankin-11/
LOCATION:ÓE BGK – 1088 Budapest\, József körút 6. J.200 konferenciaterem\, József körút 6.\, Budapest\, 1088\, Magyarország
ATTACH;FMTTYPE=image/jpeg:https://bgk.uni-obuda.hu/wp-content/uploads/2025/10/nyilt-napok-a-bankin-2025-26-event-image-v2.jpg
END:VEVENT
BEGIN:VEVENT
DTSTART;TZID=Europe/Paris:20260127T143000
DTEND;TZID=Europe/Paris:20260127T160000
DTSTAMP:20260421T141532
CREATED:20260129T100703Z
LAST-MODIFIED:20260129T100703Z
UID:21430-1769524200-1769529600@bgk.uni-obuda.hu
SUMMARY:CSERCSA KLAUDIA doktori (PhD) értekezéstervezetének műhelyvitája
DESCRIPTION:A Biztonságtudományi Doktori Iskola meghívja Önt \n  \nCSERCSA KLAUDIA: Alfa és Z generáció kiberbiztonsági-tudatosítási oktatásának vizsgálata \n  \ncímű doktori (PhD) értekezéstervezet műhelyvitájára. \n  \nTémavezető: Prof. Dr. Rajnai Zoltán \n  \nA műhelyvita időpontja: 2026. január 27. kedd 14:30 óra \nA műhelyvita helyszíne: Óbudai Egyetem – Bánki Donát Gépész és Biztonságtechnikai Mérnöki Kar – 1088 Budapest\, József körút 6. – III. emelet J312-es terem \n  \nAz értekezéstervezet megtalálható a Doktori Iskola honlapján: \nhttps://bdi.uni-obuda.hu/hu/doktori-cselekmenyek \nKérem\, amennyiben ideje engedi\, vegyen részt a műhelyvitán\, hozzászólásával segítse a jelöltet értekezésének elkészítésében!
URL:https://bgk.uni-obuda.hu/event/csercsa-klaudia-doktori-phd-ertekezestervezetenek-muhelyvitaja/
ATTACH;FMTTYPE=image/jpeg:https://bgk.uni-obuda.hu/wp-content/uploads/2025/06/doctoral-school-event-2025-1.jpg
END:VEVENT
BEGIN:VEVENT
DTSTART;VALUE=DATE:20260131
DTEND;VALUE=DATE:20260201
DTSTAMP:20260421T141532
CREATED:20260127T101112Z
LAST-MODIFIED:20260127T101112Z
UID:21387-1769817600-1769903999@bgk.uni-obuda.hu
SUMMARY:IWT - IWS jelentkezési határidő
DESCRIPTION:Az Óbudai Egyetem Bánki Donát Gépész és Biztonságtechnikai Mérnöki Kara Nemzetközi / Európai Hegesztőtechnológus ( IWT / EWT ) és Hegesztőspecialista (IWS / EWS ) képzést indít. \nAz IWT/EWT képzésre azok jelentkezhetnek\, akik rendelkeznek műszaki BSc vagy MSc oklevéllel. \nAz IIW és az EWF IAB-252r5-19 tematikája szerint folyó képzés 309 elméleti + 60 gyakorlati tanórából áll. A képzés 2026. február 05. és június 26. között\, csütörtöki és pénteki napokon zajlik. \nTovábbi információ a képzésekről és a jelentkezési adatlap a https://bgk.uni-obuda.hu/szaktanfolyamok/ oldalon található. \nAz IWS/EWS képzésre azok jelentkezhetnek\, akik rendelkeznek műszaki szakközépiskolai érettségi bizonyítvánnyal vagy magasabb szintű műszaki végzettséget tanúsító oklevéllel\, legalább 3 éves fémipari területen megszerzett és igazolt gyakorlattal és legalább 2 darab (2 különböző eljárásból) érvényes MSZ EN ISO 9606-1 szerinti hegesztőminősítéssel. Az IIW és az EWF IAB-252r5-19 tematikája szerint folyó képzés 189 elméleti + 60 gyakorlati tanórából áll. \nA képzés 2026. február 27. és június 19. között\, pénteki és szombati napokon zajlik.\nAkiknek nincsen érettségijük (de szakmunkás bizonyítvánnyal rendelkeznek)\, a képzést\nmegelőző 3 hét pénteki és szombati napjain egy 40 tanórás IWS 0 képzésen is részt kell venniük.\nTovábbi információk és a jelentkezési adatlap a https://bgk.uni-obuda.hu/szaktanfolyamok/ weboldalon érhető el.
URL:https://bgk.uni-obuda.hu/event/iwt-iws-jelentkezesi-hatarido/
ATTACH;FMTTYPE=image/jpeg:https://bgk.uni-obuda.hu/wp-content/uploads/2026/01/iwt-iws-jelentkezes-2026.jpg
END:VEVENT
END:VCALENDAR